BEGIN:VCALENDAR
VERSION:2.0
PRODID:-//Cedeso//NONSGML kigkonsult.se iCalcreator 2.30.10//
CALSCALE:GREGORIAN
METHOD:PUBLISH
UID:98d9ee7e-f232-4085-b4d4-4906d93b7b4e
X-WR-CALNAME:iCagenda
X-WR-CALDESC:Event Management Extension for Joomla!
X-WR-RELCALID:3E26604A-50F4-4449-8B3E-E4F4932D05B5
X-WR-TIMEZONE:America/Costa_Rica
BEGIN:VTIMEZONE
TZID:America/Costa_Rica
BEGIN:STANDARD
TZNAME:CST
DTSTART:20210713T060000
TZOFFSETFROM:+0000
TZOFFSETTO:-0600
END:STANDARD
END:VTIMEZONE
BEGIN:VEVENT
UID:f914e799-9786-4c7b-b551-bfcaeec6a47e
DTSTAMP:20260419T173500Z
CATEGORIES:Mejores Prácticas Organizacionales
CLASS:PUBLIC
DESCRIPTION;ALTREP="CID:<FFFF__=0ABBE548DFE235B58f9e8a93d@coffeebean.com>":
 Taller:\nCierre de brechas\nAplique 3x3x3\, 10.20.70 y Tabla-3 para cerrar
  brechas de competencias\nFecha: 14 y 21 de abril del 2023.Horario: 8:30 a
 .m. a 12:00 m.d.Duración: 7 horas.Plataforma: Zoom.Inversión: ¢95.000 + 2%
  de IVA por participante.Incluye: Material didáctico y certificado de part
 icipación en PDF.\nMotivación al taller: en un mundo complejo\, donde el a
 lineamiento es clave\, la evolución de las áreas de capacitación son las u
 niversidades empresariales.\nObjetivo: las y los participantes podrán expl
 icar\, aplicar y apreciar las herramientas para cerrar las brechas de dese
 mpeño.\nTemario y actividades:• Identificar las brechas y detonar el cambi
 o autodirigido.• Modelos 10.20.70 y las tres dimensiones de trabajo en el 
 cierre de brechas: ¿Cómo operaría esto en nuestra empresa?• Trabajo con el
  modelo 3x3x3 de aprendizaje intencionado. Aplicación a un caso propio de 
 cada participante.• El desempeño excepcional y el cierre de brechas en top
  performers: indagación apreciativa de cierre de brechas.• Modelos de cier
 re de brechas multimodal: trabajo con Tabla3© (ejercicios de aprendizaje p
 or la experiencia\, autocoaching y guías para la acción.• Tabla3©: trabajo
  con los participantes en cierre de brechas en tres competencias clave.\nF
 acilitador: Dr. Enrique Margery- Doctor en Educación y TEDx speaker.- Prof
 esor de la Maestría en Psicología del Trabajo en la Universidad de Costa R
 ica. Profesor invitado de la Universidad de Querétaro (UAQ\, México) y la 
 Universidad UAGM (Puerto Rico).- Diseña capacitación para desarrollo de so
 ft skills basado en aprendizaje por la experiencia\, GBL y “reto-aprendiza
 je”.- Coach especialista en ciencia de la colaboración y manejo de top per
 formers.- Diseña herramientas para medir el Sentido de Urgencia\, el “term
 ómetro de la colaboración” y la rentabilidad de la capacitación\, entre ot
 ros.- Autor de los libros “Complejidad y Competencias”\, “Herramientas de 
 Coaching”\, “El Viaje” (Editorial Norma\; uno de los primeros libros de ps
 icología positiva publicados) y 'Complejidad\, Transdisciplinariedad y Com
 pentencias'\nTodas nuestras capacitaciones pueden ser impartidas en su org
 anización\nInscripciones e Información al e-mail info@cedeso.co.crTel: +50
 6 2225-1007 Whatsapp: +506 6063-9111Visite nuestra página www.cedeso.co.cr
 facebook.com/cedesocostarica
DTSTART:20230414T143000Z
DTEND:20230421T180000Z
GEO:00;0
LOCATION:Virtual por Zoom
ORGANIZER;CN=:info@cedeso.co.cr
SEQUENCE:1
SUMMARY:Cierre de brechas
TRANSP:OPAQUE
URL:https://cedeso.co.cr/eventos-anteriores/654-cierre-de-brechas-2
END:VEVENT
END:VCALENDAR
