BEGIN:VCALENDAR
VERSION:2.0
PRODID:-//Cedeso//NONSGML kigkonsult.se iCalcreator 2.30.10//
CALSCALE:GREGORIAN
METHOD:PUBLISH
UID:d7a2ef29-72c8-49ba-bb58-821368a9be46
X-WR-CALNAME:iCagenda
X-WR-CALDESC:Event Management Extension for Joomla!
X-WR-RELCALID:3E26604A-50F4-4449-8B3E-E4F4932D05B5
X-WR-TIMEZONE:America/Costa_Rica
BEGIN:VTIMEZONE
TZID:America/Costa_Rica
BEGIN:STANDARD
TZNAME:CST
DTSTART:20210830T060000
TZOFFSETFROM:+0000
TZOFFSETTO:-0600
END:STANDARD
END:VTIMEZONE
BEGIN:VEVENT
UID:afdbdf87-f702-4ec7-9dc9-b298f55a8887
DTSTAMP:20260419T155954Z
CATEGORIES:Operaciones
CLASS:PUBLIC
DESCRIPTION;ALTREP="CID:<FFFF__=0ABBE548DFE235B58f9e8a93d@coffeebean.com>":
 Seminario:\nInventario cíclico\nUn método para mejorar continuamente\nObje
 tivo del seminario: Presentar a los participantes un método práctico y pro
 bado para implementar un efectivo control de su inventario físico que gara
 ntice exactitudes superiores al 95%\nTemario: • Control de inventario físi
 co eslabón entre la bodega y la administración de inventarios. • Clasifica
 ción Abc. • Metodología de toma del inventario físico. • Qué es y cómo se 
 implementa un inventario cíclico. • Control preventivo de pérdidas y varia
 ciones de inventario. • Implementación de un sistema de mejora continua ví
 a inventario cíclico.\nFecha: 1 y 2 de junio del 2023.Horario: 8:30 a.m. a
  12:30 m.d.Duración: 8 horas.Modalidad virtual por Zoom.Inversión: ¢75.000
  + 2% de IVA por participante.Incluye: Material y certificado de participa
 ción en PDF.\nFacilitador: Ing. Víctor León\, Mg.Ingeniero Industrial con 
 estudios de Postgrado en Ingeniería Industrial\, Gerencia de RRHH y Dinámi
 ca de Grupos. Experiencia en las áreas de Distribución\, Atención al Clien
 te y Planificación de la Producción\, Manejo de Inventarios\, Almacenes\, 
 Costos y Elaboración de Proyectos de Inversión. Certificación como confere
 ncista internacional. Miembro de la asociación de conferencistas Hispanos.
  Capacitador en áreas gerenciales y técnicas\, con 20 años de experiencia.
 \nTodas nuestras capacitaciones pueden ser impartidas en su organización.
 \nInscripciones e Información al e-mail info@cedeso.co.crTel: +506 2225-10
 07Whatsapp: +506 6063-9111Visite nuestra página www.cedeso.co.crfacebook.c
 om/cedesocostarica
DTSTART:20230601T143000Z
DTEND:20230602T183000Z
GEO:00;0
LOCATION:Virtual por Zoom
ORGANIZER;CN=:info@cedeso.co.cr
SEQUENCE:1
SUMMARY:Inventario cíclico
TRANSP:OPAQUE
URL:https://cedeso.co.cr/eventos-anteriores/657-inventario-c%C3%ADclico-2
END:VEVENT
END:VCALENDAR
