BEGIN:VCALENDAR
VERSION:2.0
PRODID:-//Cedeso//NONSGML kigkonsult.se iCalcreator 2.30.10//
CALSCALE:GREGORIAN
METHOD:PUBLISH
UID:34288d96-7246-4227-a3a1-d3486bb3a92c
X-WR-CALNAME:iCagenda
X-WR-CALDESC:Event Management Extension for Joomla!
X-WR-RELCALID:3E26604A-50F4-4449-8B3E-E4F4932D05B5
X-WR-TIMEZONE:America/Costa_Rica
BEGIN:VTIMEZONE
TZID:America/Costa_Rica
BEGIN:STANDARD
TZNAME:CST
DTSTART:20210522T060000
TZOFFSETFROM:+0000
TZOFFSETTO:-0600
END:STANDARD
END:VTIMEZONE
BEGIN:VEVENT
UID:b8afaa95-1798-415d-ad79-7c61d2949dea
DTSTAMP:20260419T173650Z
CATEGORIES:Mejores Prácticas Organizacionales
CLASS:PUBLIC
DESCRIPTION;ALTREP="CID:<FFFF__=0ABBE548DFE235B58f9e8a93d@coffeebean.com>":
 Taller:\nEvaluación y valoración de puestos\nPúblico objetivo:- Responsabl
 es asistentes de compensación.- Generalistas de RR.HH.- Otros profesionale
 s interesados en aprender a valorar puestos.\nContenidos:• El proceso de c
 ompensación.• El concepto de equidad interna y el intercambio.• Enfoques e
 n lograr el Valor Jerárquico de los Puestos\, no Cuantitativos y cuantitat
 ivos.• Factores compensables.• Evaluación de puestos basados en factores\,
  grados y puntos.• Ejercicio: Proceso de revisar la evaluación.\nFecha: 21
 \, 23 y 28 de febrero y 2 de marzo del 2023.Horario: 8:30 a.m. a 11:00 a.m
 .Duración total: 10 horas.Plataforma: ZoomInversión: ¢110.000 + 2% de IVA 
 por participante. Incluye: Material y certificado de participación en PDF.
 \nFacilitador: Lic. Carlos Solera Umaña. Licenciado en administración de n
 egocios. Certificado en Compensación y Competencias. Amplia experiencia en
  Compensación y Beneficios en Latinoamérica.\nTodas nuestras capacitacione
 s pueden ser impartidas en su organización\nInscripciones a: info@cedeso.c
 o.crTel: +506 2225-1007Whatsapp: +506 6063-9111Visite nuestra página www.c
 edeso.co.crfacebook.com/cedesocostarica\n 
DTSTART:20230221T143000Z
DTEND:20230302T170000Z
GEO:00;0
LOCATION:Virtual por Zoom
ORGANIZER;CN=:info@cedeso.co.cr
SEQUENCE:1
SUMMARY:Evaluación y valoración de puestos
TRANSP:OPAQUE
URL:https://cedeso.co.cr/eventos-anteriores/659-evaluaci%C3%B3n-y-valoraci%
 C3%B3n-de-puestos-3
END:VEVENT
END:VCALENDAR
