BEGIN:VCALENDAR
VERSION:2.0
PRODID:-//Cedeso//NONSGML kigkonsult.se iCalcreator 2.30.10//
CALSCALE:GREGORIAN
METHOD:PUBLISH
UID:a696a0c0-8b7b-4219-baca-250bc3bb91e8
X-WR-CALNAME:iCagenda
X-WR-CALDESC:Event Management Extension for Joomla!
X-WR-RELCALID:3E26604A-50F4-4449-8B3E-E4F4932D05B5
X-WR-TIMEZONE:America/Costa_Rica
BEGIN:VTIMEZONE
TZID:America/Costa_Rica
BEGIN:STANDARD
TZNAME:CST
DTSTART:20210524T060000
TZOFFSETFROM:+0000
TZOFFSETTO:-0600
END:STANDARD
END:VTIMEZONE
BEGIN:VEVENT
UID:807b6aac-9f15-48f1-8ca7-2fcecf8b5028
DTSTAMP:20260419T173759Z
CATEGORIES:Mejores Prácticas Organizacionales
CLASS:PUBLIC
DESCRIPTION;ALTREP="CID:<FFFF__=0ABBE548DFE235B58f9e8a93d@coffeebean.com>":
 Taller:\nInnovación para empresas de servicios\nRompa los paradigmas que l
 imitan el crecimiento empresarial.Conozca la importancia de la innovación 
 en los servicios.Marque diferencia en el mercado.Aprenda cuatro métodos ef
 ectivos para innovar en su empresa.\nFecha: jueves 23 de febrero del 2023.
 Horario: 8:30 a.m. a 12:30 m.d.Lugar: Costa Rica Tennis Club\, Sabana Sur.
 Inversión: $100 + IVA.Incluye: Desayuno\, material del taller en versión d
 igital y certificado de participación.\nFacilitador: MBA Mario Miño.Ingeni
 ero mecánico con un MBA con énfasis en Banca y Finanzas\, cuenta con exper
 iencia profesional en diferentes industrias como la eléctrica\, química\, 
 de la construcción\, consultoría y comercial.Ha laborado para compañías mu
 ltinacionales y locales\, tiene amplio conocimiento en áreas de Manufactur
 a\, Logística\, Supply Chain\, Sistemas de información\, Mercadeo\, Ventas
  y Finanzas.Con experiencia en administración de procesos de Startup\, se 
 ha desenvuelto en el mercado centroamericano y en los últimos años ha ocup
 ado la posición de Gerente General.\nTodas nuestras capacitaciones pueden 
 ser impartidas en su organización\nInscripciones a info@cedeso.co.crTel: +
 506 2225-1007 Whatsapp: +506 6063-9111Visite nuestra página www.cedeso.co.
 crfacebook.com/cedesocostarica
DTSTART:20230223T143000Z
DTEND:20230223T183000Z
GEO:00;0
LOCATION:Costa Rica Tennis Club\, Saban Sur.
ORGANIZER;CN=:info@cedeso.co.cr
SEQUENCE:1
SUMMARY:Innovación para empresas de servicios
TRANSP:OPAQUE
URL:https://cedeso.co.cr/eventos-anteriores/661-innovaci%C3%B3n-para-empres
 as-de-servicios
END:VEVENT
END:VCALENDAR
