BEGIN:VCALENDAR
VERSION:2.0
PRODID:-//Cedeso//NONSGML kigkonsult.se iCalcreator 2.30.10//
CALSCALE:GREGORIAN
METHOD:PUBLISH
UID:93d98202-713e-4a9e-846b-963249e37650
X-WR-CALNAME:iCagenda
X-WR-CALDESC:Event Management Extension for Joomla!
X-WR-RELCALID:3E26604A-50F4-4449-8B3E-E4F4932D05B5
X-WR-TIMEZONE:America/Costa_Rica
BEGIN:VTIMEZONE
TZID:America/Costa_Rica
BEGIN:STANDARD
TZNAME:CST
DTSTART:20210611T060000
TZOFFSETFROM:+0000
TZOFFSETTO:-0600
END:STANDARD
END:VTIMEZONE
BEGIN:VEVENT
UID:87b51e70-bf5f-4e86-9328-2e2dab9d7718
DTSTAMP:20260419T174022Z
CATEGORIES:Finanzas
CLASS:PUBLIC
DESCRIPTION;ALTREP="CID:<FFFF__=0ABBE548DFE235B58f9e8a93d@coffeebean.com>":
 Seminario:\nContabilidad básica para administradores\n¿Se encuentra el per
 sonal de su empresa capacitado para interpretar el estado actual de la emp
 resa y así aportar a su mejoramiento?\nFecha: 13\, 14\, 15 y 16 de marzo d
 el 2023.Horario: 1:00 p.m. a 5:00 p.m.Duración: 16 horas.Plataforma: Zoom.
 Inversión: ¢115.000 + 2% de IVA por participante.Incluye: Material y certi
 ficado de participación en PDF.\nDirigido a: Empresarios\, y funcionarios 
 relacionados con el área financiera\, contable y administrativa\, así como
  todo personal interesado en interpretar adecuadamente los resultados de l
 a empresa y conocer la normativa que la regula.\nObjetivo: Proporcionar lo
 s conocimientos básicos que debe de tener\, todo aquel funcionario relacio
 nado con los procesos administrativos\, contables\, financieros\, producci
 ón\, ventas\; para que pueda interpretar la operación de la empresa y los 
 reportes contables y así poder desarrollar sus labores\, aportando eficien
 cia para el logro de resultados financieros positivos.\nContenidos:Histori
 a e importancia de la contabilidad• Importancia de la contabilidad• La lab
 or del funcionario contable• El registro correcto de la contabilidad y su 
 efecto en el flujo de información• El uso de la información contable y su 
 efecto en la toma de decisiones• Normativa nacional e internacional que re
 gula la contabilidad\nElementos y principios básicos contables• El ciclo c
 ontable• Elementos de la ecuación contable• Conceptos y cuentas de balance
   - Activo - Pasivo  - Patrimonio y capital contable• Conceptos y cuentas 
 de resultados - Ingresos  - Gastos - Costo de ventas• Estados financieros 
 básicos - Balance General - Estado de resultados - Estado de flujo de efec
 tivo - Estado de cambio en el patrimonio• Configuración contable de una em
 presa - Concepto y aplicación de cuenta - Catálogo de cuentas - Código de 
 cuentas - Concepto y aplicación de partida doble - Concepto y uso de los a
 sientos de diario - Balanza de comprobación - Concepto de diario\, mayor y
  balances - Registro de los asientos de diario - Mayorización de los asien
 tos de diario - Asientos de ajuste - Asientos de cierre - Elaboración de l
 a balanza de comprobación - Elaboración de estados financieros• Registro d
 e las transacciones normales de la empresa - Capital social - Ventas - Com
 pras - Gastos - Inventarios - Activos - Planilla - Otros\nFacilitador: CPI
  Marco A. Zapata Castro\, Presidente de Asesorías en Crédito y Cobro S. A.
 \, Contador Privado\, Asesor Nacional e Internacional en el área contable 
 financiero\, Profesor en la Universidad Católica\, Universidad Tecnológica
  Nacional y Universidad Hispanoamericana\, Fiscal de la Cámara de Importad
 ores CRECEX\, ex Director Bancario y facilitador en entidades como CEDESO\
 , Colegio de Contadores Privados\, Fundación Solpromesa\, Crecex y en empr
 esas nacionales e internacionales.\nTodas nuestras capacitaciones pueden s
 er impartidas en su organización\nInscripciones e información al e-mail in
 fo@cedeso.co.crTel: (506) 2225-1007 / Fax: (506) 2253-2774 Visite nuestra 
 página www.cedeso.co.crfacebook.com/cedesocostarica
DTSTART:20230313T190000Z
DTEND:20230316T230000Z
GEO:00;0
LOCATION:Virtual por Zoom
ORGANIZER;CN=:info@cedeso.co.cr
SEQUENCE:1
SUMMARY:Contabilidad básica para administradores
TRANSP:OPAQUE
URL:https://cedeso.co.cr/eventos-anteriores/666-contabilidad-b%C3%A1sica-pa
 ra-administradores
END:VEVENT
END:VCALENDAR
