BEGIN:VCALENDAR
VERSION:2.0
PRODID:-//Cedeso//NONSGML kigkonsult.se iCalcreator 2.30.10//
CALSCALE:GREGORIAN
METHOD:PUBLISH
UID:74db7814-7c8f-4caa-82e8-e1bbd413c2ba
X-WR-CALNAME:iCagenda
X-WR-CALDESC:Event Management Extension for Joomla!
X-WR-RELCALID:3E26604A-50F4-4449-8B3E-E4F4932D05B5
X-WR-TIMEZONE:America/Costa_Rica
BEGIN:VTIMEZONE
TZID:America/Costa_Rica
BEGIN:STANDARD
TZNAME:CST
DTSTART:20210725T060000
TZOFFSETFROM:+0000
TZOFFSETTO:-0600
END:STANDARD
END:VTIMEZONE
BEGIN:VEVENT
UID:125ebf7e-8be7-46d7-babb-b16d7460a966
DTSTAMP:20260419T173854Z
CATEGORIES:Mejores Prácticas Organizacionales
CLASS:PUBLIC
DESCRIPTION;ALTREP="CID:<FFFF__=0ABBE548DFE235B58f9e8a93d@coffeebean.com>":
 Taller interactivo:\nÉxito para personal administrativo\nAbordaremos los ¨
 secretos¨ de la eficiencia en el trabajo\nFecha: 26 de abril del 2023.Hora
 rio: 8:30 a.m. a 12:00 m.d.Duración: 3.5 horas.Virtual por Zoom.Inversión:
  ¢35.000 + 2% IVA por participante. Incluye: Materiales y certificado de p
 articipación en PDF.\nPúblico meta:Asistentes\, auxiliares\, oficinistas d
 e todo nivel\, recepcionistas.\nContenido:1.¿De qué depende ser exitoso y 
 conservar un empleo?2. El secreto de la eficiencia.3. Test para conocer mi
 s habilidades naturales más importantes.4. Los factores fundamentales para
  darse a comprender y comprender a los demás.5. Mi estilo de trabajo y cóm
 o trabajar con los otros estilos diferentes.6. Conocer y aplicar una herra
 mienta que ayuda a motivar a los demás.7. La clave volverte un líder posit
 ivo y muy apreciado.8. Maneras de 'producir' tiempo para cumplir los objet
 ivos. 9. El manejo de conflictos en la oficina.10.La persona que triunfa.
 \nFacilitador: Lic. Carlos Solera Umaña Licenciado en administración de ne
 gocios\, técnico en seguros. Más de 30 años de experiencia en todos los su
 bprocesos de Gestión de RRHH\, como responsable de reclutamiento seleccion
 o más de mil personas en los diferentes países de Centroamérica. Amplia ex
 periencia en organizaciones de manufactura\, servicios\, cooperativas y ON
 G’s. Actual fundador y director de CEDESO.S.A.\nTodas nuestras capacitacio
 nes pueden ser impartidas en su organización\nInscripciones e Información 
 al e-mail info@cedeso.co.crTel: +506 2225-1007 Whatsapp: +506 6063-9111Vis
 ite nuestra página www.cedeso.co.crfacebook.com/cedesocostarica
DTSTART:20230426T143000Z
DTEND:20230426T180000Z
GEO:00;0
LOCATION:Virtual por Zoom
ORGANIZER;CN=:info@cedeso.co.cr
SEQUENCE:1
SUMMARY:Éxito para personal administrativo
TRANSP:OPAQUE
URL:https://cedeso.co.cr/eventos-anteriores/669-%C3%A9xito-para-personal-ad
 ministrativo-3
END:VEVENT
END:VCALENDAR
