BEGIN:VCALENDAR
VERSION:2.0
PRODID:-//Cedeso//NONSGML kigkonsult.se iCalcreator 2.30.10//
CALSCALE:GREGORIAN
METHOD:PUBLISH
UID:7b094557-f07e-4b70-a76c-8e23a5756a17
X-WR-CALNAME:iCagenda
X-WR-CALDESC:Event Management Extension for Joomla!
X-WR-RELCALID:3E26604A-50F4-4449-8B3E-E4F4932D05B5
X-WR-TIMEZONE:America/Costa_Rica
BEGIN:VTIMEZONE
TZID:America/Costa_Rica
BEGIN:STANDARD
TZNAME:CST
DTSTART:20210807T060000
TZOFFSETFROM:+0000
TZOFFSETTO:-0600
END:STANDARD
END:VTIMEZONE
BEGIN:VEVENT
UID:b1468a42-fc00-4182-9aab-c7e3e8971fb5
DTSTAMP:20260419T161046Z
CATEGORIES:Mejores Prácticas Organizacionales
CLASS:PUBLIC
DESCRIPTION;ALTREP="CID:<FFFF__=0ABBE548DFE235B58f9e8a93d@coffeebean.com>":
 Taller:\nPrimeros Auxilios Emocionales para Managers (PAEM)\n¡El liderazgo
  cambió! En la nueva normalidad\, urge dotar a nuestros equipos y líderes 
 de herramientas para el desarrollo de la resiliencia individual\, grupal y
  organizacional...\nObjetivo orientativo: las y los participantes serán ca
 paces de explicar\, aplicar y apreciar herramientas esenciales para dar ap
 oyo a personas y equipos en tiempos difíciles.\nTemario: • Buenas y malas 
 prácticas: ¿Qué tipo de escucha y apoyo debemos dar a los colaboradores? y
  ¿Cuáles son las condiciones específicas en el contexto organizacional? • 
 Assessment inicial y aplicación del protocolo PARE. • Reglas de escucha ef
 ectiva (qué hacer y qué no hacer) y grounding. • Herramientas psicoeducati
 vas y tres estrategias de “trabajo en el pensamiento” para managers. • Hac
 ia una pedagogía de la compasión y el apoyo fuera del contexto terapéutico
 . Compasión hacia otros\, desde otros y trabajo con autoafirmaciones para 
 el growth mindset (mentalidad de crecimiento). • Ejercicios de aprendizaje
  intencionado para las y los participantes.\nFecha: 9 y 16 de mayo del 202
 3.Horario: 8:30 a.m. a 11:30 a.m.Duración: 6 horas.Plataforma: Zoom.Invers
 ión: ¢90.000 + 2% de IVA por participante.Incluye: Material didáctico y ce
 rtificado de participación en PDF.\nFacilitador: Dr. Enrique Margery- Doct
 or en Educación y TEDx speaker.- Profesor de la Maestría en Psicología del
  Trabajo en la Universidad de Costa Rica. Profesor invitado de la Universi
 dad de Querétaro (UAQ\, México) y la Universidad UAGM (Puerto Rico).- Dise
 ña capacitación para desarrollo de soft skills basado en aprendizaje por l
 a experiencia\, GBL y “reto-aprendizaje”.- Coach especialista en ciencia d
 e la colaboración y manejo de top performers.- Diseña herramientas para me
 dir el Sentido de Urgencia\, el “termómetro de la colaboración” y la renta
 bilidad de la capacitación\, entre otros.- Autor de los libros “Complejida
 d y Competencias”\, “Herramientas de Coaching”\, “El Viaje” (Editorial Nor
 ma\; uno de los primeros libros de psicología positiva publicados) y 'Comp
 lejidad\, Transdisciplinariedad y Compentencias'\nTodas nuestras capacitac
 iones pueden ser impartidas en su organización\nInscripciones e Informació
 n al e-mail info@cedeso.co.crTel: +506 2225-1007 Whatsapp: +506 6063-9111V
 isite nuestra página www.cedeso.co.crfacebook.com/cedesocostarica
DTSTART:20230509T143000Z
DTEND:20230516T173000Z
GEO:00;0
LOCATION:Virtual por Zoom
ORGANIZER;CN=:info@cedeso.co.cr
SEQUENCE:1
SUMMARY:Primeros Auxilios Emocionales para Managers (PAEM)
TRANSP:OPAQUE
URL:https://cedeso.co.cr/eventos-anteriores/670-primeros-auxilios-emocional
 es-para-managers%20-paem
END:VEVENT
END:VCALENDAR
