BEGIN:VCALENDAR
VERSION:2.0
PRODID:-//Cedeso//NONSGML kigkonsult.se iCalcreator 2.30.10//
CALSCALE:GREGORIAN
METHOD:PUBLISH
UID:64ee4936-ace0-4af2-b2f8-7ca7101e28a2
X-WR-CALNAME:iCagenda
X-WR-CALDESC:Event Management Extension for Joomla!
X-WR-RELCALID:3E26604A-50F4-4449-8B3E-E4F4932D05B5
X-WR-TIMEZONE:America/Costa_Rica
BEGIN:VTIMEZONE
TZID:America/Costa_Rica
BEGIN:STANDARD
TZNAME:CST
DTSTART:20210524T060000
TZOFFSETFROM:+0000
TZOFFSETTO:-0600
END:STANDARD
END:VTIMEZONE
BEGIN:VEVENT
UID:7419b114-b85b-4384-b0d0-54cc4f5059f4
DTSTAMP:20260419T192103Z
CATEGORIES:Talleres asincrónicos
CLASS:PUBLIC
DESCRIPTION;ALTREP="CID:<FFFF__=0ABBE548DFE235B58f9e8a93d@coffeebean.com>":
 Taller In-house a elección del contratante
DTSTART:20230223T202100Z
DTEND:20230223T202100Z
GEO:00;0
LOCATION:
ORGANIZER:
SEQUENCE:1
SUMMARY:Analítica de datos
TRANSP:OPAQUE
URL:https://cedeso.co.cr/eventos-anteriores/673-anal%C3%ADtica-de-datos/202
 3-02-23-14-21
END:VEVENT
END:VCALENDAR
