BEGIN:VCALENDAR
VERSION:2.0
PRODID:-//Cedeso//NONSGML kigkonsult.se iCalcreator 2.30.10//
CALSCALE:GREGORIAN
METHOD:PUBLISH
UID:baf9e27a-a955-4ebb-b2fe-336f6cef681d
X-WR-CALNAME:iCagenda
X-WR-CALDESC:Event Management Extension for Joomla!
X-WR-RELCALID:3E26604A-50F4-4449-8B3E-E4F4932D05B5
X-WR-TIMEZONE:America/Costa_Rica
BEGIN:VTIMEZONE
TZID:America/Costa_Rica
BEGIN:STANDARD
TZNAME:CST
DTSTART:20210528T060000
TZOFFSETFROM:+0000
TZOFFSETTO:-0600
END:STANDARD
END:VTIMEZONE
BEGIN:VEVENT
UID:440f9a53-a1ff-4b7f-8bc6-eecb87f360d7
DTSTAMP:20260419T174111Z
CATEGORIES:Talleres asincrónicos
CLASS:PUBLIC
DESCRIPTION;ALTREP="CID:<FFFF__=0ABBE548DFE235B58f9e8a93d@coffeebean.com>":
 Taller In-house a elección del contratante
DTSTART:20230227T202100Z
DTEND:20230227T202100Z
GEO:00;0
LOCATION:
ORGANIZER:
SEQUENCE:1
SUMMARY:Analítica de datos
TRANSP:OPAQUE
URL:https://cedeso.co.cr/eventos-anteriores/673-anal%C3%ADtica-de-datos/202
 3-02-27-14-21
END:VEVENT
END:VCALENDAR
