BEGIN:VCALENDAR
VERSION:2.0
PRODID:-//Cedeso//NONSGML kigkonsult.se iCalcreator 2.30.10//
CALSCALE:GREGORIAN
METHOD:PUBLISH
UID:231c390d-81cd-4ebc-a7c7-d8427683ff06
X-WR-CALNAME:iCagenda
X-WR-CALDESC:Event Management Extension for Joomla!
X-WR-RELCALID:3E26604A-50F4-4449-8B3E-E4F4932D05B5
X-WR-TIMEZONE:America/Costa_Rica
BEGIN:VTIMEZONE
TZID:America/Costa_Rica
BEGIN:STANDARD
TZNAME:CST
DTSTART:20210905T060000
TZOFFSETFROM:+0000
TZOFFSETTO:-0600
END:STANDARD
END:VTIMEZONE
BEGIN:VEVENT
UID:25220313-c224-4d38-9fee-67085c9756c0
DTSTAMP:20260419T161221Z
CATEGORIES:Mejores Prácticas Organizacionales
CLASS:PUBLIC
DESCRIPTION;ALTREP="CID:<FFFF__=0ABBE548DFE235B58f9e8a93d@coffeebean.com>":
 Taller:\nLa entrevista de selección por competencias\nCómo ser más efectiv
 os y precisos en la selección de personal\, incluye listas de preguntas má
 s valiosas.\nFecha: 7 y 8 de junio del 2023.Horario: 8:30 a.m. a 11:30 a.m
 .Duración: 6 horas.Metodología: Virtual. Plataforma: Zoom.Inversión: ¢60.0
 00 + 2% de IVA por participante. Incluye: Material y certificado de partic
 ipación en PDF.\nPúblico objetivo: - Reclutadores\, especialistas y asiste
 ntes. - Quienes participan en los procesos de selección de personal. - Otr
 os interesados en expandir conocimientos en el tema.\nContenidos:1. Entend
 iendo las competencias.2. Análisis del perfil: diversos tipos de requisito
 s.3. Formas de atraer candidatos: pipeline de talentos.4. Plan y Fases del
  proceso dela entrevista excepcional5. Papel de la preentrevista.6. La est
 ructura de la entrevista de fondo: Los aspectos específicos a analizar.7. 
 Cómo predecir el comportamiento/competencias en la entrevista.8. Qué puedo
  y qué no puedo preguntar.\nFacilitador: Lic. Carlos Solera Umaña Licencia
 do en administración de negocios\, certificado en Compensación y Beneficio
 s y en Competencias\, técnico en seguros. Más de 30 años de experiencia en
  todos los subprocesos de Gestión de RRHH. Amplia experiencia en organizac
 iones de manufactura\, servicios\, cooperativas y ONG’s. Actual fundador y
  director de CEDESO.S.A.\nTodas nuestras capacitaciones pueden ser imparti
 das en su organización\nInscripciones a: info@cedeso.co.crTel: +506 2225-1
 007 Whatsapp: +506 6063-9111Visite nuestra página www.cedeso.co.crfacebook
 .com/cedesocostarica\n 
DTSTART:20230607T143000Z
DTEND:20230608T173000Z
GEO:00;0
LOCATION:Virtual por Zoom
ORGANIZER;CN=:info@cedeso.co.cr
SEQUENCE:1
SUMMARY:La entrevista de selección por competencias
TRANSP:OPAQUE
URL:https://cedeso.co.cr/eventos-anteriores/675-la-entrevista-de-selecci%C3
 %B3n-por-competencias-4
END:VEVENT
END:VCALENDAR
