BEGIN:VCALENDAR
VERSION:2.0
PRODID:-//Cedeso//NONSGML kigkonsult.se iCalcreator 2.30.10//
CALSCALE:GREGORIAN
METHOD:PUBLISH
UID:1b4e9cdc-7846-452b-b0b7-b8141774424c
X-WR-CALNAME:iCagenda
X-WR-CALDESC:Event Management Extension for Joomla!
X-WR-RELCALID:3E26604A-50F4-4449-8B3E-E4F4932D05B5
X-WR-TIMEZONE:America/Costa_Rica
BEGIN:VTIMEZONE
TZID:America/Costa_Rica
BEGIN:STANDARD
TZNAME:CST
DTSTART:20210712T060000
TZOFFSETFROM:+0000
TZOFFSETTO:-0600
END:STANDARD
END:VTIMEZONE
BEGIN:VEVENT
UID:903f0f32-72df-4e7d-a7c6-cdb1a36d78a1
DTSTAMP:20260419T174400Z
CATEGORIES:Operaciones
CLASS:PUBLIC
DESCRIPTION;ALTREP="CID:<FFFF__=0ABBE548DFE235B58f9e8a93d@coffeebean.com>":
 Taller:\n¿Cómo desarrollar habilidades blandas en un entorno logístico vol
 átil\, incierto\, complejo y ambiguo?\nFecha: 13 de abril del 2023.Horario
 : 8:30 a.m. a 12:30 a.m.Duración: 4 horas.Plataforma: Zoom.Inversión: ¢40.
 000 + 2% de IVA por participante.Incluye: Material didáctico y certificado
  de participación en PDF.\nObjetivo: Aprender a desarrollar las habilidade
 s blandas necesarias para el buen desempeño en la gestión logística a fin 
 de que los colaboradores puedan manejar de manera efectiva el entorno VUCA
  (Volátil\, incierto\, complejo y ambiguo).\nContenido temático:Generalida
 des del tema:• ¿Qué es un entorno VUCA?• Principales desafíos del sector l
 ogístico en la actualidad.• ¿Qué son habilidades blandas?• Importancia de 
 las habilidades blandas en el manejo logístico.\nHabilidades blandas indis
 pensables en el entorno logístico:• Inteligencia emocional.• Autoconocimie
 nto.• Liderazgo.• Gestión del tiempo.• Relaciones interpersonales.• Trabaj
 o en equipo.• Comunicación asertiva.• Presentaciones efectivas.\nFacilitad
 ora: Licda. Yorleny Jiménez RojasGraduada con honores de la Universidad de
  Costa Rica en la carrera de Administración Aduanera y Comercio Exterior. 
 Certificada como especialista en Supply Chain de la Universidad de Nebrija
  en España.Actualmente consultora independiente con 20 años de experiencia
  en manejo y desarrollo de procesos de internacionalización y logística es
 pecialmente para el sector agrícola.Especialista en desarrollo de acompaña
 mientos empresariales en temas de importación\, exportación\, logística in
 ternacional\, entre otros.Profesora de la Universidad de Costa Rica\, Univ
 ersidad FUNDEPOS y capacitadora activa en diferentes Cámaras que agremia e
 xportadores\, importadores\, empresas PYMES\, entidades estatales\, colegi
 os profesionales\, entre otros.\nTodas nuestras capacitaciones pueden ser 
 impartidas en su organización\nInscripciones a: info@cedeso.co.crTel: +506
  2225-1007 Whatsapp: +506 6063-9111Visite nuestra página www.cedeso.co.crf
 acebook.com/cedesocostarica
DTSTART:20230413T143000Z
DTEND:20230413T183000Z
GEO:00;0
LOCATION:Virtual por Zoom.
ORGANIZER;CN=:info@cedeso.co.cr
SEQUENCE:1
SUMMARY:Cómo desarrollar habilidades blandas en un entorno logístico voláti
 l\, incierto\, complejo y ambiguo
TRANSP:OPAQUE
URL:https://cedeso.co.cr/eventos-anteriores/678-c%C3%B3mo-desarrollar-habil
 idades-blandas-en-un-entorno-log%C3%ADstico-vol%C3%A1til,-incierto,-comple
 jo-y-ambiguo
END:VEVENT
END:VCALENDAR
