BEGIN:VCALENDAR
VERSION:2.0
PRODID:-//Cedeso//NONSGML kigkonsult.se iCalcreator 2.30.10//
CALSCALE:GREGORIAN
METHOD:PUBLISH
UID:a2e15e9c-992e-4aa5-aab6-8612eeaa68d5
X-WR-CALNAME:iCagenda
X-WR-CALDESC:Event Management Extension for Joomla!
X-WR-RELCALID:3E26604A-50F4-4449-8B3E-E4F4932D05B5
X-WR-TIMEZONE:America/Costa_Rica
BEGIN:VTIMEZONE
TZID:America/Costa_Rica
BEGIN:STANDARD
TZNAME:CST
DTSTART:20210724T060000
TZOFFSETFROM:+0000
TZOFFSETTO:-0600
END:STANDARD
END:VTIMEZONE
BEGIN:VEVENT
UID:da7f77df-2d46-4987-ad07-4dd16c848060
DTSTAMP:20260419T172825Z
CATEGORIES:Mejores Prácticas Organizacionales
CLASS:PUBLIC
DESCRIPTION;ALTREP="CID:<FFFF__=0ABBE548DFE235B58f9e8a93d@coffeebean.com>":
 Taller:\nLenguaje corporal\nFecha: 25 y 28 de abril del 2023.Horario: 8:30
  a.m. a 11:30 a.m.Duración total: 6 horas.Plataforma: Zoom.Inversión: ¢75.
 000 + 2% de IVA por participante. Incluye: Material y certificado de parti
 cipación en PDF.Facilitadora: Lic. Fernanda Ljuba\nTemas:\nSesión 1El lide
 razgo\, la comunicación y el lenguaje corporal.• Auto-diagnóstico - nivel 
 corporal.• La importancia de la primera buena impresión. • El lenguaje cor
 poral femenino o masculino.• Por qué es importante aprender a decodificar 
 al interlocutor.• Expresiones universales.Lenguaje corporal: qué transmiti
 mos a través del cuerpo y la palabra.• Actitud\, barreras y dominio.• Espe
 jo: Cómo generar empatía y confianza.• Escucha activa y lenguaje corporal.
 \nSesión 2:Posturas\, gestos\, miradas y tono de voz.• Entonación al habla
 r\, el poder de las manos\, los gestos de la cara\, mirar a los ojos\, las
  mil y una sonrisas.• Posturas: qué comunican los pies y las piernas. El t
 orso.• Morfopsicología: gestos y ademanes.Lenguaje corporal en la empresa.
 • Espacio físico\, distancias y movimientos corporales.• Lenguaje corporal
  en las reuniones de trabajo.• Lenguaje corporal en una entrevista de trab
 ajo.• Lenguaje corporal en las Negociaciones.• Lenguaje corporal y Gestión
  de conflictos.\nFacilitadora: Lic. Fernanda LjubaExperience Director\, Be
 YouLic. En RRPP\, Diplomado Internacional en Kinesics Coaching y CNV.Posgr
 ado en Imagen Corporativa y Management. Más de 10 años de experiencia en S
 ervice Excellence en Hotelería de lujo y Retail.Trabajó en PANDORA\, Nestl
 é Nespresso para Latinoamérica\, en el Hotel Caesar Park y en organismos p
 úblicos en las áreas de Comunicación\, RR.HH y RRPP\, eventos\, servicio a
 l cliente y turismo.Su carrera profesional se desarrolló en varios países 
 de Latinoamérica y Europa liderando equipos\, construyendo marcas y trasmi
 tiendo su experiencia en el servicio y las ventas.Consultor\, Coach &amp\;
  Trainer de equipos en imagen pública y profesional\, ventas y servicio de
  excelencia.\nTodas nuestras capacitaciones pueden ser impartidas en su or
 ganización\nInscripciones e Información al e-mail info@cedeso.co.crTel: (5
 06) 2225-1007 / Fax: (506) 2253-2774Visite nuestra página www.cedeso.co.cr
 facebook.com/cedesocostarica\n 
DTSTART:20230425T143000Z
DTEND:20230428T173000Z
GEO:00;0
LOCATION:Virtual por Zoom.
ORGANIZER;CN=:info@cedeso.co.cr
SEQUENCE:1
SUMMARY:Lenguaje corporal
TRANSP:OPAQUE
URL:https://cedeso.co.cr/eventos-anteriores/680-lenguaje-corporal
END:VEVENT
END:VCALENDAR
