BEGIN:VCALENDAR
VERSION:2.0
PRODID:-//Cedeso//NONSGML kigkonsult.se iCalcreator 2.30.10//
CALSCALE:GREGORIAN
METHOD:PUBLISH
UID:6d7f6638-0b8d-4a80-a6a5-a060a21f1b0a
X-WR-CALNAME:iCagenda
X-WR-CALDESC:Event Management Extension for Joomla!
X-WR-RELCALID:3E26604A-50F4-4449-8B3E-E4F4932D05B5
X-WR-TIMEZONE:America/Costa_Rica
BEGIN:VTIMEZONE
TZID:America/Costa_Rica
BEGIN:STANDARD
TZNAME:CST
DTSTART:20210626T060000
TZOFFSETFROM:+0000
TZOFFSETTO:-0600
END:STANDARD
END:VTIMEZONE
BEGIN:VEVENT
UID:2cd9a2df-e421-438e-a9ec-366a7d176e20
DTSTAMP:20260419T174222Z
CATEGORIES:Mejores Prácticas Organizacionales
CLASS:PUBLIC
DESCRIPTION;ALTREP="CID:<FFFF__=0ABBE548DFE235B58f9e8a93d@coffeebean.com>":
 Taller interactivo:\nCómo incrementar la productividad en su negocio o emp
 resa\nFecha: 28 y 29 de marzo 2023.Horario: 2:00 p.m. a 4:00 p.m.Duración:
  4 horas.Plataforma: Zoom.Inversión: ¢60.000 + 2% de IVA por participante.
 Incluye: Material y certificado de participación en PDF.\nEn la gestión em
 presarial\, la eficiencia es un atributo de primer orden para lograr optim
 izar los costos y maximizar los beneficios del proceso productivo. En este
  sentido la productividad es un indicador que nos muestra la salud de la e
 ficiencia empresarial. Incrementar sus niveles no es tarea fácil y constit
 uye un verdadero reto tanto para directivos como para colaboradores. ¿Cómo
  enfrentar este reto ?\, ¿qué hacer para incrementar los niveles de produc
 tividad y que la misma sea un elemento de competitividad de su Organizació
 n?\, son interrogantes que nos debemos hacer a diario\, cuya respuesta deb
 e convertirse en el motor impulsor del quehacer empresarial.\nObjetivo: Ex
 plicar a los participantes las acciones que deben ejecutar para incrementa
 r los niveles de productividad en su negocio o empresa.\nTemario:• Concept
 ualización de productividad. • Enfoque estratégico del negocio o empresa. 
 Premisa para la productividad.• La sinergia entre los perfiles de competen
 cias y la selección del personal para el logro de la productividad. • Pape
 l de la estructura organizativa (jerárquica\, matricial o por procesos) en
  la productividad. Ejemplos.• La comunicación como elemento dinamizador de
  la productividad. • Elaboración de planes operativos y normas de trabajo 
 orientadas a la productividad.• Importancia de disponer de los recursos y 
 condiciones materiales necesarias para la productividad. • Incidencia del 
 clima laboral en el logro de la productividad. Técnicas para evaluarlo. • 
 Papel de los incentivos materiales y morales en la productividad. Ejemplos
  de planes de estimulación. • La filosofía Lean Six Sigma para la optimiza
 ción de los procesos productivos y de gestión. • Herramientas para evaluar
  el estado de la productividad. Diagrama Ishikawa\, Brainstorming\, Activo
 s de productividad\, tableros de comando.\nFacilitadores: Yoany Rodríguez 
 Cruz. Aspirante a Doctor en Ciencias Pedagógicas\, Máster en Administració
 n de Empresas\, Licenciado en Educación\, Diplomado en Gestión Empresarial
  y Administración Pública. Posee más de 15 años de experiencia como direct
 ivo y consultor en gestión empresarial\, especializado en temas gerenciale
 s y estudios organizacionales como son: Planificación Estratégica\, Cuadro
  de Mando Integral\, Gestión del Talento\, Responsabilidad Social Empresar
 ial\, Sistemas Integrados de Gestión\, Coaching en procesos de cambio y me
 jora\, entre otros temas\, Conferencista en Congresos Internacionales de G
 estión Empresarial y autor de varias publicaciones relacionadas con la Ges
 tión del Talento. Creador del Modelo GESTAL. Profesor adjunto de la Univer
 sidad. Tutor de Tesis de Licenciatura y Maestría. Socio Fundador de C.C.Co
 nsultores.\nMagalys Hernández González: Máster en Administración de Empres
 as\, Licenciada en Educación\, Diplomado en Dirección y Gestión Empresaria
 l y Administración Pública. Posee 25 años de experiencia en la actividad d
 ocente como profesora universitaria y 10 años como consultora\, especializ
 ada en temas de gestión del talento\, competencias laborales\, clima labor
 al\, evaluación del desempeño y equidad de género. Conferencista en Congre
 sos y eventos internacionales y autora de varias publicaciones relacionada
 s con Planificación Estratégica\, Cuadro de Mando Integral\, Gestión del T
 alento\, Responsabilidad Social Empresarial\, Sistemas Integrados de Gesti
 ón\, entre otros temas. Tutora de Tesis de Maestría y Fundadora de C.C.Con
 sultores.\nTodas nuestras capacitaciones pueden ser impartidas en su organ
 ización\nInscripciones a: e-mail info@cedeso.co.crTel: +506 2225-1007Whats
 app: +506 6063-9111Visite nuestra página www.cedeso.co.crfacebook.com/cede
 socostarica
DTSTART:20230328T200000Z
DTEND:20230329T220000Z
GEO:00;0
LOCATION:Virtual por Zoom
ORGANIZER;CN=:info@cedeso.co.cr
SEQUENCE:1
SUMMARY:Cómo incrementar la productividad en su negocio o empresa
TRANSP:OPAQUE
URL:https://cedeso.co.cr/eventos-anteriores/682-c%C3%B3mo-incrementar-la-pr
 oductividad-en-su-negocio-o-empresa
END:VEVENT
END:VCALENDAR
