BEGIN:VCALENDAR
VERSION:2.0
PRODID:-//Cedeso//NONSGML kigkonsult.se iCalcreator 2.30.10//
CALSCALE:GREGORIAN
METHOD:PUBLISH
UID:76d80f0d-479c-4bb7-adc8-968c8158f6ab
X-WR-CALNAME:iCagenda
X-WR-CALDESC:Event Management Extension for Joomla!
X-WR-RELCALID:3E26604A-50F4-4449-8B3E-E4F4932D05B5
X-WR-TIMEZONE:America/Costa_Rica
BEGIN:VTIMEZONE
TZID:America/Costa_Rica
BEGIN:STANDARD
TZNAME:CST
DTSTART:20220218T060000
TZOFFSETFROM:+0000
TZOFFSETTO:-0600
END:STANDARD
END:VTIMEZONE
BEGIN:VEVENT
UID:38cbd0c3-87f6-4412-81cc-7dd6212fd6be
DTSTAMP:20260419T142629Z
CATEGORIES:Finanzas
CLASS:PUBLIC
DESCRIPTION;ALTREP="CID:<FFFF__=0ABBE548DFE235B58f9e8a93d@coffeebean.com>":
 Taller:\nCasos prácticos de gestión de cobro\nFecha: 20 y 21 de noviembre 
 del 2023.Horario: 1:00 p.m. a 5:00 p.m.Duración total: 8 horas.Plataforma:
  Zoom.Inversión: ¢80.000 + 2% de IVA por participante.Incluye: Material y 
 certificado en PDF.\nDirigido a: Empresarios\, y funcionarios relacionados
  con el área de crédito y cobro y ventas\, así como todo personal relacion
 ado con las cuentas por cobrar y su recuperación efectiva.\nObjetivo: Empo
 derar a los participantes en técnicas de gestión de cobro y la estructurac
 ión de estrategias de recuperación efectiva\, para el logro de resultados 
 financieros positivos.\nContenidos:Introducción a la labores de gestión de
  cobro.  - El proceso organizacional del departamento de crédito y cobro  
 - El proceso de otorgamiento de crédito Conceptos básicos  - Estado de cue
 nta  - Reporte de antigüedad de saldos  - Comprobantes electrónicos  - Tít
 ulos ejecutivos  - Formularios del área de crédito y cobro Análisis de cas
 os.Exposición de casos sobre vivencias de gestión de cobro de los particip
 anes.\nFacilitador: CPI Marco A. Zapata Castro\, Presidente de Asesorías e
 n Crédito y Cobro S. A.\, Contador Privado\, Asesor Nacional e Internacion
 al en el área contable financiero\, Profesor en la Universidad Católica\, 
 Universidad Tecnológica Nacional y Universidad Hispanoamericana\, Fiscal d
 e la Cámara de Importadores CRECEX\, ex Director Bancario y facilitador en
  entidades como CEDESO\, Colegio de Contadores Privados\, Fundación Solpro
 mesa\, Crecex y en empresas nacionales e internacionales.\nTodas nuestras 
 capacitaciones pueden ser impartidas en su organización\nInscripciones a: 
 info@cedeso.co.crTel: +506 2225-1007 Whatsapp: +506 6063-9111Visite nuestr
 a página www.cedeso.co.crfacebook.com/cedesocostarica
DTSTART:20231120T190000Z
DTEND:20231121T230000Z
GEO:00;0
LOCATION:Virtual por Zoom
ORGANIZER;CN=:info@cedeso.co.cr
SEQUENCE:1
SUMMARY:Casos prácticos de gestión de cobro
TRANSP:OPAQUE
URL:https://cedeso.co.cr/eventos-anteriores/687-casos-pr%C3%A1cticos-de-ges
 ti%C3%B3n-de-cobro
END:VEVENT
END:VCALENDAR
