BEGIN:VCALENDAR
VERSION:2.0
PRODID:-//Cedeso//NONSGML kigkonsult.se iCalcreator 2.30.10//
CALSCALE:GREGORIAN
METHOD:PUBLISH
UID:3c7dee3b-3b44-4809-8773-fe09a9fcd424
X-WR-CALNAME:iCagenda
X-WR-CALDESC:Event Management Extension for Joomla!
X-WR-RELCALID:3E26604A-50F4-4449-8B3E-E4F4932D05B5
X-WR-TIMEZONE:America/Costa_Rica
BEGIN:VTIMEZONE
TZID:America/Costa_Rica
BEGIN:STANDARD
TZNAME:CST
DTSTART:20210807T060000
TZOFFSETFROM:+0000
TZOFFSETTO:-0600
END:STANDARD
END:VTIMEZONE
BEGIN:VEVENT
UID:c442c568-e9ad-4d7e-9fb1-f51a5648faec
DTSTAMP:20260419T161257Z
CATEGORIES:Operaciones
CLASS:PUBLIC
DESCRIPTION;ALTREP="CID:<FFFF__=0ABBE548DFE235B58f9e8a93d@coffeebean.com>":
 Taller:\nDesarrolle un servicio logístico enfocado en el cliente\, aplique
  el design thinking y haga la diferencia en un mercado competitivo\nFecha:
  9 de mayo del 2023.Horario: 8:30 a.m. a 12:30 a.m.Duración: 4 horas.Plata
 forma: Zoom.Inversión: ¢40.000 + 2% de IVA por participante.Incluye: Mater
 ial didáctico y certificado de participación en PDF.Facilitadora: Licda. Y
 orleny Jiménez.\nObjetivo: Conocer la estructura del design thinking a fin
  de analizar el modelo de negocio actual para así crear nuevas oportunidad
 es y generar diferenciación en el mercado local e internacional.\nContenid
 o temático:• ¿Qué es creatividad y la innovación?• ¿Por qué innovar en la 
 logística?• Océanos azules y rojos.• ¿Qué es el design thinking?• Cambios 
 empresariales a través del design thinking.• El proceso del design thinkin
 g y la participación activa del cliente.• Herramientas para desarrollar el
  método design thinking en el proceso logístico.• ¿Cómo empezar?• Manos a 
 la obra: incentivemos un cambio en nuestro modelo de negocio hacia la inno
 vación.\nFacilitadora: Licda. Yorleny Jiménez RojasGraduada con honores de
  la Universidad de Costa Rica en la carrera de Administración Aduanera y C
 omercio Exterior. Certificada como especialista en Supply Chain de la Univ
 ersidad de Nebrija en España.Actualmente consultora independiente con 20 a
 ños de experiencia en manejo y desarrollo de procesos de internacionalizac
 ión y logística especialmente para el sector agrícola.Especialista en desa
 rrollo de acompañamientos empresariales en temas de importación\, exportac
 ión\, logística internacional\, entre otros.Profesora de la Universidad de
  Costa Rica\, Universidad FUNDEPOS y capacitadora activa en diferentes Cám
 aras que agremia exportadores\, importadores\, empresas PYMES\, entidades 
 estatales\, colegios profesionales\, entre otros.\nTodas nuestras capacita
 ciones pueden ser impartidas en su organización\nInscripciones a: info@ced
 eso.co.crTel: +506 2225-1007 Whatsapp: +506 6063-9111Visite nuestra página
  www.cedeso.co.crfacebook.com/cedesocostarica
DTSTART:20230509T143000Z
DTEND:20230509T183000Z
GEO:00;0
LOCATION:Virtual por Zoom
ORGANIZER;CN=:info@cedeso.co.cr
SEQUENCE:1
SUMMARY:Desarrolle un servicio logístico enfocado en el cliente\, aplique e
 l design thinking y haga la diferencia en un mercado competitivo
TRANSP:OPAQUE
URL:https://cedeso.co.cr/eventos-anteriores/690-desarrolle-un-servicio-log%
 C3%ADstico-enfocado-en-el-cliente,-aplique-el-design-thinking-y-haga-la-di
 ferencia-en-un-mercado-competitivo
END:VEVENT
END:VCALENDAR
