BEGIN:VCALENDAR
VERSION:2.0
PRODID:-//Cedeso//NONSGML kigkonsult.se iCalcreator 2.30.10//
CALSCALE:GREGORIAN
METHOD:PUBLISH
UID:8a20430d-a902-462a-b503-219878011af1
X-WR-CALNAME:iCagenda
X-WR-CALDESC:Event Management Extension for Joomla!
X-WR-RELCALID:3E26604A-50F4-4449-8B3E-E4F4932D05B5
X-WR-TIMEZONE:America/Costa_Rica
BEGIN:VTIMEZONE
TZID:America/Costa_Rica
BEGIN:STANDARD
TZNAME:CST
DTSTART:20210712T060000
TZOFFSETFROM:+0000
TZOFFSETTO:-0600
END:STANDARD
END:VTIMEZONE
BEGIN:VEVENT
UID:cddbf011-ea1e-4084-a92f-c39fd3024693
DTSTAMP:20260419T174122Z
CATEGORIES:Mejores Prácticas Organizacionales
CLASS:PUBLIC
DESCRIPTION;ALTREP="CID:<FFFF__=0ABBE548DFE235B58f9e8a93d@coffeebean.com>":
 MasterClass:\n¿Son blandas las habilidades blandas?\nLos temas:• ¿De dónde
  vienen las habilidades blandas? Robert Gagné y las únicas 5 cosas que pue
 des aprender.• Un mapa de las habilidades blandas y las tres más urgentes 
 'aquí y ahora'.• Presentación del libro 'Actuar para pensar' (management p
 ara la nueva normalidad).• ¿Cómo se desarrollan las habilidades blandas? (
 Llévese un ejemplo de forma Tabla3 de regalo).\nFacilitador: Dr. Enrique m
 argeryjueves 13 de abril\, ¡en doble horario a escoger!Sesión 10:00 a.m. S
 esión 7:00 p.m.\nTodas nuestras capacitaciones pueden ser impartidas en su
  organización\nInscripciones a info@cedeso.co.crTel: +506 2225-1007 Whatsa
 pp: +506 6063-9111Visite nuestra página www.cedeso.co.crfacebook.com/cedes
 ocostarica
DTSTART:20230413T160000Z
DTEND:20230413T170000Z
GEO:00;0
LOCATION:Virtual por Zoom
ORGANIZER;CN=:info@cedeso.co.cr
SEQUENCE:1
SUMMARY:¿Son blandas las habilidades blandas?
TRANSP:OPAQUE
URL:https://cedeso.co.cr/eventos-anteriores/696-%C2%BFson-blandas-las-habil
 idades-blandas
END:VEVENT
END:VCALENDAR
