BEGIN:VCALENDAR
VERSION:2.0
PRODID:-//Cedeso//NONSGML kigkonsult.se iCalcreator 2.30.10//
CALSCALE:GREGORIAN
METHOD:PUBLISH
UID:6cbbc5d8-3826-4ecc-92c1-4f4b33276869
X-WR-CALNAME:iCagenda
X-WR-CALDESC:Event Management Extension for Joomla!
X-WR-RELCALID:3E26604A-50F4-4449-8B3E-E4F4932D05B5
X-WR-TIMEZONE:America/Costa_Rica
BEGIN:VTIMEZONE
TZID:America/Costa_Rica
BEGIN:STANDARD
TZNAME:CST
DTSTART:20210801T060000
TZOFFSETFROM:+0000
TZOFFSETTO:-0600
END:STANDARD
END:VTIMEZONE
BEGIN:VEVENT
UID:022f2673-56df-4434-97c7-816fad5b8afd
DTSTAMP:20260419T155927Z
CATEGORIES:Mejores Prácticas Organizacionales
CLASS:PUBLIC
DESCRIPTION;ALTREP="CID:<FFFF__=0ABBE548DFE235B58f9e8a93d@coffeebean.com>":
 Taller interactivo:\nLiderazgo efectivo. \nUna nueva forma de ver y hacer.
 \nFecha: 3 y 4 de mayo 2023.Horario: 2:00 p.m. a 4:00 p.m.Duración: 4 hora
 s.Plataforma: Zoom.Inversión: ¢60.000 + 2% de IVA por participante.Incluye
 : Material y certificado de participación en PDF.\nObjetivo:Explicar a los
  participantes los pasos a seguir para lograr el correcto funcionamiento d
 e la organización\, a través del desarrollo y la aplicación de un liderazg
 o efectivo.\nTemario:• Contexto de la organización empresarial. Matriz de 
 relaciones y el papel del líder en la gestión empresarial. • Definición de
  liderazgo. Diferencia entre líder y dirigente. Autoridad real y formal. •
  Cualidades que deben caracterizar a un líder.• Funciones y competencias d
 e un líder.• Convergencia entre dirección y liderazgo.• Ámbitos de influen
 cia del liderazgo. Tipologías.• Mitos sobre el liderazgo. Premisas para el
  aprendizaje del liderazgo efectivo.• Autodiagnóstico de liderazgo.• 15 co
 nsejos prácticos para desarrollar un liderazgo efectivo.• Papel del lidera
 zgo en la satisfacción\, motivación y ambiente laboral. • Papel del lidera
 zgo en el cumplimiento de los requisitos de la norma ISO 9001:2015 relacio
 nados con este tema. • Indicadores de medición de liderazgo en la Empresa.
  Herramientas de medición.\nFacilitadores: Yoany Rodríguez Cruz. Aspirante
  a Doctor en Ciencias Pedagógicas\, Máster en Administración de Empresas\,
  Licenciado en Educación\, Diplomado en Gestión Empresarial y Administraci
 ón Pública. Posee más de 15 años de experiencia como directivo y consultor
  en gestión empresarial\, especializado en temas gerenciales y estudios or
 ganizacionales como son: Planificación Estratégica\, Cuadro de Mando Integ
 ral\, Gestión del Talento\, Responsabilidad Social Empresarial\, Sistemas 
 Integrados de Gestión\, Coaching en procesos de cambio y mejora\, entre ot
 ros temas\, Conferencista en Congresos Internacionales de Gestión Empresar
 ial y autor de varias publicaciones relacionadas con la Gestión del Talent
 o. Creador del Modelo GESTAL. Profesor adjunto de la Universidad. Tutor de
  Tesis de Licenciatura y Maestría. Socio Fundador de C.C.Consultores.\nMag
 alys Hernández González: Máster en Administración de Empresas\, Licenciada
  en Educación\, Diplomado en Dirección y Gestión Empresarial y Administrac
 ión Pública. Posee 25 años de experiencia en la actividad docente como pro
 fesora universitaria y 10 años como consultora\, especializada en temas de
  gestión del talento\, competencias laborales\, clima laboral\, evaluación
  del desempeño y equidad de género. Conferencista en Congresos y eventos i
 nternacionales y autora de varias publicaciones relacionadas con Planifica
 ción Estratégica\, Cuadro de Mando Integral\, Gestión del Talento\, Respon
 sabilidad Social Empresarial\, Sistemas Integrados de Gestión\, entre otro
 s temas. Tutora de Tesis de Maestría y Fundadora de C.C.Consultores.\nToda
 s nuestras capacitaciones pueden ser impartidas en su organización\nInscri
 pciones a: e-mail info@cedeso.co.crTel: +506 2225-1007Whatsapp: +506 6063-
 9111Visite nuestra página www.cedeso.co.crfacebook.com/cedesocostarica
DTSTART:20230503T200000Z
DTEND:20230504T220000Z
GEO:00;0
LOCATION:Virtual por Zoom
ORGANIZER;CN=:info@cedeso.co.cr
SEQUENCE:1
SUMMARY:Liderazgo efectivo
TRANSP:OPAQUE
URL:https://cedeso.co.cr/eventos-anteriores/698-liderazgo-efectivo
END:VEVENT
END:VCALENDAR
