BEGIN:VCALENDAR
VERSION:2.0
PRODID:-//Cedeso//NONSGML kigkonsult.se iCalcreator 2.30.10//
CALSCALE:GREGORIAN
METHOD:PUBLISH
UID:20d7e173-eddf-4fc3-960a-ad10929929b4
X-WR-CALNAME:iCagenda
X-WR-CALDESC:Event Management Extension for Joomla!
X-WR-RELCALID:3E26604A-50F4-4449-8B3E-E4F4932D05B5
X-WR-TIMEZONE:America/Costa_Rica
BEGIN:VTIMEZONE
TZID:America/Costa_Rica
BEGIN:STANDARD
TZNAME:CST
DTSTART:20210815T060000
TZOFFSETFROM:+0000
TZOFFSETTO:-0600
END:STANDARD
END:VTIMEZONE
BEGIN:VEVENT
UID:e1995053-88a0-46b4-af08-09fe6b8ef33d
DTSTAMP:20260419T160908Z
CATEGORIES:Mejores Prácticas Organizacionales
CLASS:PUBLIC
DESCRIPTION;ALTREP="CID:<FFFF__=0ABBE548DFE235B58f9e8a93d@coffeebean.com>":
 Taller:\nImplementación de la norma ISO 9001:2015 en el área de Recursos H
 umanos\nFecha: 17 y 18 de mayo 2022.Horario: 9:00 a.m. a 11:00 a.m.Duració
 n: 4 horas.Plataforma: Zoom.Inversión: ¢60.000 + 2% de IVA por participant
 e.Incluye: Material y certificado de participación en PDF.\nObjetivo:Expli
 car a los participantes las herramientas y técnicas a utilizar para cumpli
 mentar los requisitos de la norma ISO 9001:2015 relacionados con la activi
 dad de Recursos Humanos.\nBeneficios que recibirán los participantes:• Req
 uisitos de la norma ISO 9001:2015 relacionados con la actividad de Recurso
 s Humanos.• Formato de ficha del proceso de Gestión de los Recursos Humano
 s. • Diagrama de flujo del proceso de Gestión de los Recursos Humanos.• Ma
 pa de subprocesos dentro de los procesos de Gestión de los Recursos Humano
 s. • Listado de procedimientos del proceso de Gestión de los Recursos Huma
 nos requeridos para la certificación del sistema de calidad según la ISO 9
 001:2015.• Formato para elaborar los procedimientos del proceso de Gestión
  de los Recursos Humanos. • Batería de indicadores para el proceso de Gest
 ión de los Recursos Humanos. • Evaluación de la eficacia del proceso de Ge
 stión de los Recursos Humanos.\nFacilitadores: Yoany Rodríguez Cruz. Aspir
 ante a Doctor en Ciencias Pedagógicas\, Máster en Administración de Empres
 as\, Licenciado en Educación\, Diplomado en Gestión Empresarial y Administ
 ración Pública. Posee más de 15 años de experiencia como directivo y consu
 ltor en gestión empresarial\, especializado en temas gerenciales y estudio
 s organizacionales como son: Planificación Estratégica\, Cuadro de Mando I
 ntegral\, Gestión del Talento\, Responsabilidad Social Empresarial\, Siste
 mas Integrados de Gestión\, Coaching en procesos de cambio y mejora\, entr
 e otros temas\, Conferencista en Congresos Internacionales de Gestión Empr
 esarial y autor de varias publicaciones relacionadas con la Gestión del Ta
 lento. Creador del Modelo GESTAL. Profesor adjunto de la Universidad. Tuto
 r de Tesis de Licenciatura y Maestría. Socio Fundador de C.C.Consultores.
 \nMagalys Hernández González: Máster en Administración de Empresas\, Licen
 ciada en Educación\, Diplomado en Dirección y Gestión Empresarial y Admini
 stración Pública. Posee 25 años de experiencia en la actividad docente com
 o profesora universitaria y 10 años como consultora\, especializada en tem
 as de gestión del talento\, competencias laborales\, clima laboral\, evalu
 ación del desempeño y equidad de género. Conferencista en Congresos y even
 tos internacionales y autora de varias publicaciones relacionadas con Plan
 ificación Estratégica\, Cuadro de Mando Integral\, Gestión del Talento\, R
 esponsabilidad Social Empresarial\, Sistemas Integrados de Gestión\, entre
  otros temas. Tutora de Tesis de Maestría y Fundadora de C.C.Consultores.
 \nTodas nuestras capacitaciones pueden ser impartidas en su organización\n
 Inscripciones e Información al e-mail info@cedeso.co.crTel: (506) 2225-100
 7 · Fax: (506) 2253-2774Visite nuestra página www.cedeso.co.crfacebook.com
 /cedesocostarica
DTSTART:20230517T150000Z
DTEND:20230518T170000Z
GEO:00;0
LOCATION:Virtual por Zoom
ORGANIZER;CN=:info@cedeso.co.cr
SEQUENCE:1
SUMMARY:Implementación de la norma ISO 9001:2015 en el área de Recursos Hum
 anos
TRANSP:OPAQUE
URL:https://cedeso.co.cr/eventos-anteriores/699-implementaci%C3%B3n-de-la-n
 orma-iso-9001-2015-en-el-%C3%A1rea-de-recursos-humanos-3
END:VEVENT
END:VCALENDAR
