BEGIN:VCALENDAR
VERSION:2.0
PRODID:-//Cedeso//NONSGML kigkonsult.se iCalcreator 2.30.10//
CALSCALE:GREGORIAN
METHOD:PUBLISH
UID:95c7150b-ad85-4993-9cb6-4b230e487175
X-WR-CALNAME:iCagenda
X-WR-CALDESC:Event Management Extension for Joomla!
X-WR-RELCALID:3E26604A-50F4-4449-8B3E-E4F4932D05B5
X-WR-TIMEZONE:America/Costa_Rica
BEGIN:VTIMEZONE
TZID:America/Costa_Rica
BEGIN:STANDARD
TZNAME:CST
DTSTART:20211212T060000
TZOFFSETFROM:+0000
TZOFFSETTO:-0600
END:STANDARD
END:VTIMEZONE
BEGIN:VEVENT
UID:e7bff669-40a9-419b-b20e-0c57ceee313a
DTSTAMP:20260419T161220Z
CATEGORIES:Mejores Prácticas Organizacionales
CLASS:PUBLIC
DESCRIPTION;ALTREP="CID:<FFFF__=0ABBE548DFE235B58f9e8a93d@coffeebean.com>":
 Taller:\nEntrenamiento en Habilidades Blandas / Soft Skills\nFecha: 13 y 2
 0 de setiembre del 2023.Horario: 8:30 a.m. a 11:30 a.m.Duración: 6 horas.P
 lataforma: Zoom.Inversión: ¢95.000 + 2% de IVA por participante.Incluye: M
 aterial didáctico y certificado de participación en PDF.\nMotivación: en u
 n mundo complejo\, donde la capacidad colaborativa\, la adaptabilidad y la
  autodirección son claves\, urge conocer las habilidades blandas y saber c
 ómo desarrollarlas.\nObjetivo: las y los participantes podrán explicar\, a
 plicar y apreciar la noción de habilidades blandas y las herramientas para
  desarrollarlas.\nContenidos:• ¿Qué son las habilidades blandas? El modelo
  Gagné 5 y las macro\, meso y micro SS.• Innovación\, retención-engagement
 \, trabajo en equipo\, respuesta a clientes y resultados: como las habilid
 ades blandas impactan estos 5 dominios.• Mapee las habilidades blandas ese
 nciales en su posición o en un área de su empresa (Ejercicio No. 1 con par
 ticipantes).• Saque provecho de la interacción entre habilidades duras y b
 landas (Ejercicio No. 2 con participantes).• Aprendizaje ágil\, autoreflex
 ión\, aprendizaje intencionado\, Juego Serio\, 3x3x3 ¡y más!: ¿Cómo se des
 arrollan las habilidades blandas? (Ejercicio 3: a partir de una tríada\, c
 ada participante elige las habilidades blandas que va a trabajar).• Ponien
 do el juego el autodesarrollo: metacognición y tablas de guía de acción\, 
 autocoaching y proyectos de aprendizaje (Ejercicio 4: una experiencia de a
 utodesarrollo).\nFacilitador: Dr. Enrique Margery- Doctor en Educación y T
 EDx speaker.- Profesor invitado de la Universidad de Querétaro (UAQ\, Méxi
 co) y la Universidad UAGM (Puerto Rico).- Diseña capacitación para desarro
 llo de soft skills basado en aprendizaje por la experiencia\, GBL y “reto-
 aprendizaje”.- Coach especialista en ciencia de la colaboración y manejo d
 e top performers.- Diseña herramientas para medir el Sentido de Urgencia\,
  el “termómetro de la colaboración” y la rentabilidad de la capacitación\,
  entre otros.- Autor de los libros “Complejidad y Competencias”\, “Herrami
 entas de Coaching”\, “El Viaje” (Editorial Norma\; uno de los primeros lib
 ros de psicología positiva publicados) y 'Bájate de la escalera'.\nTodas n
 uestras capacitaciones pueden ser impartidas en su organización\nInscripci
 ones a info@cedeso.co.crTel: +506 2225-1007 Whatsapp: +506 6063-9111Visite
  nuestra página www.cedeso.co.crfacebook.com/cedesocostarica
DTSTART:20230913T143000Z
DTEND:20230920T173000Z
GEO:00;0
LOCATION:Virtual por Zoom
ORGANIZER;CN=:info@cedeso.co.cr
SEQUENCE:1
SUMMARY:Entrenamiento en Habilidades Blandas / Soft Skills
TRANSP:OPAQUE
URL:https://cedeso.co.cr/eventos-anteriores/700-entrenamiento-en-habilidade
 s-blandas-soft-skills
END:VEVENT
END:VCALENDAR
