BEGIN:VCALENDAR
VERSION:2.0
PRODID:-//Cedeso//NONSGML kigkonsult.se iCalcreator 2.30.10//
CALSCALE:GREGORIAN
METHOD:PUBLISH
UID:31b51ade-ecc5-4f7a-b687-36babd9658bd
X-WR-CALNAME:iCagenda
X-WR-CALDESC:Event Management Extension for Joomla!
X-WR-RELCALID:3E26604A-50F4-4449-8B3E-E4F4932D05B5
X-WR-TIMEZONE:America/Costa_Rica
BEGIN:VTIMEZONE
TZID:America/Costa_Rica
BEGIN:STANDARD
TZNAME:CST
DTSTART:20210911T060000
TZOFFSETFROM:+0000
TZOFFSETTO:-0600
END:STANDARD
END:VTIMEZONE
BEGIN:VEVENT
UID:cad0c0a7-2fc5-4c19-9db7-236e8653bdce
DTSTAMP:20260419T161252Z
CATEGORIES:Mejores Prácticas Organizacionales
CLASS:PUBLIC
DESCRIPTION;ALTREP="CID:<FFFF__=0ABBE548DFE235B58f9e8a93d@coffeebean.com>":
 Taller:\nLos tres sombreros (Herramientas estratégicas para ser manager\, 
 operar como coach y dirigir como líder)\nFecha: 13\, 20 y 27 de junio del 
 2023.Horario: 9:00 a.m. a 12:00 m.d.Duración: 9 horas.Plataforma: Zoom.Inv
 ersión: ¢105.000 + 2% de IVA por participante.Incluye: Material didáctico 
 y certificado de participación en PDF.\nMotivación: en un mundo complejo\,
  donde debemos dirigir\, liderar y coachear a otros\, tenemos que saber cu
 ándo y cómo jugar bien cada papel.\nDirigido a: managers\, gestores de tal
 ento\, coaches\, encargados de capacitación y capacitadores\, personal de 
 alto potencial\, top performers… toda persona que ocupe manejar la tríada 
 manager-líder-coach.\nObjetivos: las y los participantes podrán explicar\,
  aplicar y apreciar las herramientas estratégicas para los papeles de mana
 ger\, líder y coach.\nTemario y actividades:• Los cuatro modos directivos:
  cuándo y cómo jugar cada papel.• El papel de manager-jefatura-supervisión
 : cuatro tipos de colaborador y su manejo\; seteo de expectativas y discip
 lina de ejecución\; desarrollo y feedback (asertividad\, SEP y manejo apre
 ciativo).• El papel de coach: performance coaching\, internalidad y metas 
 SMAART\, modelo PRACTICE y trabajo en el pensamiento.• El papel de líder: 
 las cuatro preguntas del equipo (parte I y II)\; el KPI del Liderazgo\; el
  liderazgo de equipos como competencia\, micro y macro orgullo y engagemen
 t de equipos.• Triada oscura\, aprendizaje ágil (humildad\, escucha y meta
 cognición) y el manejo de los tres sombreros.\nFacilitador: Dr. Enrique Ma
 rgery- Doctor en Educación y TEDx speaker.- Profesor invitado de la Univer
 sidad de Querétaro (UAQ\, México) y la Universidad UAGM (Puerto Rico).- Di
 seña capacitación para desarrollo de soft skills basado en aprendizaje por
  la experiencia\, GBL y “reto-aprendizaje”.- Coach especialista en ciencia
  de la colaboración y manejo de top performers.- Diseña herramientas para 
 medir el Sentido de Urgencia\, el “termómetro de la colaboración” y la ren
 tabilidad de la capacitación\, entre otros.- Autor de los libros “Compleji
 dad y Competencias”\, “Herramientas de Coaching”\, “El Viaje” (Editorial N
 orma\; uno de los primeros libros de psicología positiva publicados) y 'Bá
 jate de la escalera'.\nTodas nuestras capacitaciones pueden ser impartidas
  en su organización\nInscripciones a info@cedeso.co.crTel: +506 2225-1007 
 Whatsapp: +506 6063-9111Visite nuestra página www.cedeso.co.crfacebook.com
 /cedesocostarica
DTSTART:20230613T150000Z
DTEND:20230627T180000Z
GEO:00;0
LOCATION:Virtual por Zoom
ORGANIZER;CN=:info@cedeso.co.cr
SEQUENCE:1
SUMMARY:Los tres sombreros (Herramientas estratégicas para ser manager\, op
 erar como coach y dirigir como líder)
TRANSP:OPAQUE
URL:https://cedeso.co.cr/eventos-anteriores/701-los-tres-sombreros-herramie
 ntas-estrat%C3%A9gicas-para-ser-manager,-operar-como-coach-y-dirigir-como-
 l%C3%ADder
END:VEVENT
END:VCALENDAR
