BEGIN:VCALENDAR
VERSION:2.0
PRODID:-//Cedeso//NONSGML kigkonsult.se iCalcreator 2.30.10//
CALSCALE:GREGORIAN
METHOD:PUBLISH
UID:a023d013-ca2c-473d-a572-af5700af1706
X-WR-CALNAME:iCagenda
X-WR-CALDESC:Event Management Extension for Joomla!
X-WR-RELCALID:3E26604A-50F4-4449-8B3E-E4F4932D05B5
X-WR-TIMEZONE:America/Costa_Rica
BEGIN:VTIMEZONE
TZID:America/Costa_Rica
BEGIN:STANDARD
TZNAME:CST
DTSTART:20210906T060000
TZOFFSETFROM:+0000
TZOFFSETTO:-0600
END:STANDARD
END:VTIMEZONE
BEGIN:VEVENT
UID:eeb20817-211c-4b8e-adbc-32377d1ea090
DTSTAMP:20260419T160006Z
CATEGORIES:Mejores Prácticas Organizacionales
CLASS:PUBLIC
DESCRIPTION;ALTREP="CID:<FFFF__=0ABBE548DFE235B58f9e8a93d@coffeebean.com>":
 Taller:\n¡Tic! ¡Tac! Manejo del tiempo\nFecha: 8 y 15 de junio del 2023Hor
 ario: 8:30 a.m. a 12:00 m.d.Duración: 7 horas.Plataforma: Zoom.Inversión: 
 ¢95.000 + 2% de IVA por participante.Incluye: Material didáctico y certifi
 cado de participación en PDF.\nMotivación: en un mundo de colaboración\, t
 rabajo remoto y equipos ágiles\, es esencial conocer las herramientas para
  aprovechar el tiempo al máximo.\nObjetivos: las y los participantes podrá
 n explicar\, aplicar y apreciar comportamientos y herramientas asociados c
 on el manejo de prioridades\, la ejecución con agilidad y los procesos con
  sentido de urgencia.\nContenidos:1.El manejo de las Prioridades: • Trampa
 s y problemas culturales que se “comen el tiempo” (distractores\, ganancia
 s secundarias y cómo frenarlos). • Ciencia de prioridades: lo urgente y lo
  importante son cosas diferentes. • Matriz de prioridades “1-3-9” y 7 estr
 ategias para aprovechar el tiempo (reuniones ágiles\, manejo de distractor
 es\, freno asertivo\, etc.). • Kanban y agilismo cuando perder el tiempo e
 s un tema sistémico. 2.El Sentido de Urgencia (SU):  • Acción precisa y li
 bre de errores: 4 dimensiones del Sentido de Urgencia. • Los comportamient
 os en pro y contra del cumplimiento de promesas\, agilidad\, tenacidad y m
 anejo de prioridades.  • Aplicación de herramienta de Autoevaluación del S
 U.3.¡No pierda el tiempo! (La ciencia de la ejecución) • Falta de claridad
  y de disciplina: siete obstáculos que empujan al fracaso en la ejecución 
 (¡Y qué hacer al respecto!). • Tres expectativas a tener claras para asegu
 rar la ejecución ágil de las tareas\, procesos y proyectos. • Liderazgo en
  la ejecución: guías para la acción y comportamientos pro y contra de prod
 ucir resultados\, sincronizar y alinear.\nFacilitador: Dr. Enrique Margery
 - Doctor en Educación y TEDx speaker.- Profesor invitado de la Universidad
  de Querétaro (UAQ\, México) y la Universidad UAGM (Puerto Rico).- Diseña 
 capacitación para desarrollo de soft skills basado en aprendizaje por la e
 xperiencia\, GBL y “reto-aprendizaje”.- Coach especialista en ciencia de l
 a colaboración y manejo de top performers.- Diseña herramientas para medir
  el Sentido de Urgencia\, el “termómetro de la colaboración” y la rentabil
 idad de la capacitación\, entre otros.- Autor de los libros “Complejidad y
  Competencias”\, “Herramientas de Coaching”\, “El Viaje” (Editorial Norma\
 ; uno de los primeros libros de psicología positiva publicados) y 'Bájate 
 de la escalera'.\nTodas nuestras capacitaciones pueden ser impartidas en s
 u organización\nInscripciones a info@cedeso.co.crTel: +506 2225-1007 Whats
 app: +506 6063-9111Visite nuestra página www.cedeso.co.crfacebook.com/cede
 socostarica
DTSTART:20230608T143000Z
DTEND:20230615T180000Z
GEO:00;0
LOCATION:Virtual por Zoom
ORGANIZER;CN=:info@cedeso.co.cr
SEQUENCE:1
SUMMARY:Manejo del tiempo
TRANSP:OPAQUE
URL:https://cedeso.co.cr/eventos-anteriores/702-manejo-del-tiempo
END:VEVENT
END:VCALENDAR
