BEGIN:VCALENDAR
VERSION:2.0
PRODID:-//Cedeso//NONSGML kigkonsult.se iCalcreator 2.30.10//
CALSCALE:GREGORIAN
METHOD:PUBLISH
UID:1feb453f-c88e-4d88-a6f9-c37ea95add28
X-WR-CALNAME:iCagenda
X-WR-CALDESC:Event Management Extension for Joomla!
X-WR-RELCALID:3E26604A-50F4-4449-8B3E-E4F4932D05B5
X-WR-TIMEZONE:America/Costa_Rica
BEGIN:VTIMEZONE
TZID:America/Costa_Rica
BEGIN:STANDARD
TZNAME:CST
DTSTART:20210911T060000
TZOFFSETFROM:+0000
TZOFFSETTO:-0600
END:STANDARD
END:VTIMEZONE
BEGIN:VEVENT
UID:f319044a-9a9c-472f-9fb0-9bdbf31bd1c3
DTSTAMP:20260419T160800Z
CATEGORIES:Mejores Prácticas Organizacionales
CLASS:PUBLIC
DESCRIPTION;ALTREP="CID:<FFFF__=0ABBE548DFE235B58f9e8a93d@coffeebean.com>":
 Taller:\n¿Cómo aplicar un design thinking en los servicios del Estado?\nFe
 cha: 13 de junio del 2023.Horario: 8:30 a.m. a 12:30 a.m.Duración: 4 horas
 .Plataforma: Zoom.Inversión: ¢40.000 + 2% de IVA por participante.Incluye:
  Material didáctico y certificado de participación en PDF.Facilitadora: Li
 cda. Yorleny Jiménez.\nObjetivo: Brindar las herramientas necesarias para 
 diseñar una estrategia para el servicio público basado en un diseño desde 
 el exterior hacia el interior.\nContenido temático:• ¿Qué es design thinki
 ng?• Principios del design thinking.• Proceso del design thinking.• Herram
 ientas.• ¿Por qué el design thinking en el Gobierno?• El design thinking e
 n el Gobierno: - Preparación del proyecto. - Análisis de nuevas ideas y op
 ortunidades. - Probando conceptos a través de prototipos. - Implementación
  del programa. - Evaluación.\nFacilitadora: Licda. Yorleny Jiménez RojasGr
 aduada con honores de la Universidad de Costa Rica en la carrera de Admini
 stración Aduanera y Comercio Exterior. Certificada como especialista en Su
 pply Chain de la Universidad de Nebrija en España.Actualmente consultora i
 ndependiente con 20 años de experiencia en manejo y desarrollo de procesos
  de internacionalización y logística especialmente para el sector agrícola
 .Especialista en desarrollo de acompañamientos empresariales en temas de i
 mportación\, exportación\, logística internacional\, entre otros.Profesora
  de la Universidad de Costa Rica\, Universidad FUNDEPOS y capacitadora act
 iva en diferentes Cámaras que agremia exportadores\, importadores\, empres
 as PYMES\, entidades estatales\, colegios profesionales\, entre otros.\nTo
 das nuestras capacitaciones pueden ser impartidas en su organización\nInsc
 ripciones a: info@cedeso.co.crTel: +506 2225-1007 Whatsapp: +506 6063-9111
 Visite nuestra página www.cedeso.co.crfacebook.com/cedesocostarica
DTSTART:20230613T143000Z
DTEND:20230613T183000Z
GEO:00;0
LOCATION:Virtual por Zoom
ORGANIZER;CN=:info@cedeso.co.cr
SEQUENCE:1
SUMMARY:Cómo aplicar un design thinking en los servicios del Estado
TRANSP:OPAQUE
URL:https://cedeso.co.cr/eventos-anteriores/710-c%C3%B3mo-aplicar-un-design
 -thinking-en-los-servicios-del-estado
END:VEVENT
END:VCALENDAR
