BEGIN:VCALENDAR
VERSION:2.0
PRODID:-//Cedeso//NONSGML kigkonsult.se iCalcreator 2.30.10//
CALSCALE:GREGORIAN
METHOD:PUBLISH
UID:d338daa5-d989-4301-b603-542a3acf41a9
X-WR-CALNAME:iCagenda
X-WR-CALDESC:Event Management Extension for Joomla!
X-WR-RELCALID:3E26604A-50F4-4449-8B3E-E4F4932D05B5
X-WR-TIMEZONE:America/Costa_Rica
BEGIN:VTIMEZONE
TZID:America/Costa_Rica
BEGIN:STANDARD
TZNAME:CST
DTSTART:20210912T060000
TZOFFSETFROM:+0000
TZOFFSETTO:-0600
END:STANDARD
END:VTIMEZONE
BEGIN:VEVENT
UID:18d629be-c874-42b8-bb16-b7716494a929
DTSTAMP:20260419T161359Z
CATEGORIES:Mejores Prácticas Organizacionales
CLASS:PUBLIC
DESCRIPTION;ALTREP="CID:<FFFF__=0ABBE548DFE235B58f9e8a93d@coffeebean.com>":
 Taller:\nHabilidades ejecutivas para asistentes\, oficinistas y auxiliares
 \nProactividad y eficacia\nFecha: 14 y 15 de junio del 2023.Horario: 8:30 
 a.m. a 12:00 m.d.Duración: 7 horas.Virtual por Zoom.Inversión: ¢55.000 + 2
 % IVA por participante. Incluye: Materiales y certificado de participación
  en PDF.Facilitador: Lic. Carlos Solera.\nDirigido a:- Asistentes administ
 rativos.- Personal de apoyo de oficina.- Secretarias y recepcionistas.- To
 do tipo de personal administrativo.\nObjetivos: Conocer los principios y t
 écnicas que le permitan incrementar su productividad\, agilizar su trabajo
  de manera eficaz y ser elemento de enlace entre usuarios internos y exter
 nos.\nBeneficios:Adquirirá el conocimiento\, herramientas y técnicas para 
 convertirse en un asistente eficaz de área y/o departamento.Fortalecerá su
 s habilidades interpersonales y las de autogestión.\nMetodología:Taller co
 n énfasis en las dinámicas que promueven la participación de los asistente
 s.\nContenido:Introducción: Los grandes cambios acaeciendo en el campo lab
 oralEl perfil actual del asistente\n1. Reconocer mi estilo y fortalezas na
 turalesEjercicio: Test para determinar mis fortalezas Analizando el perfil
  de mi puesto Estableciendo mis áreas de oportunidadCuáles son los ladrone
 s de la productividad\n2. Identificando los objetivos de mi departamentoLo
 s productos finales valiosos de mi áreaLos ciclos de acción y el controlCó
 mo identificar el estilo de trabajo de mi grupo y de mi jefeDiversas forma
 s de trabajar mejor con los diferentes estilos de trabajo\n3.Cómo manejar 
 el tiempoCómo lidiar con el estrésLa disciplina efectiva en la oficinaEl c
 uadrante Urgente-ImportanteCómo lograr que te alcance el tiempo para todo 
 4.Mejorando las habilidades de comunicación formal e informalLa importanci
 a de la comunicación informalManejando los pequeños grandes detalles de la
  oficinaAprendiendo a manejar el acuse de reciboEl ciclo de comunicación e
 n la prácticaClaves para tener éxito en la obtención de apoyo y el logro d
 e las acciones\nFacilitador: Lic. Carlos Solera Umaña Licenciado en admini
 stración de negocios\, técnico en seguros. Más de 30 años de experiencia e
 n todos los subprocesos de Gestión de RRHH\, como responsable de reclutami
 ento selecciono más de mil personas en los diferentes países de Centroamér
 ica. Amplia experiencia en organizaciones de manufactura\, servicios\, coo
 perativas y ONG’s. Actual fundador y director de CEDESO.S.A.\nTodas nuestr
 as capacitaciones pueden ser impartidas en su organización\nInscripciones 
 a info@cedeso.co.crTel: +506 2225-1007 Whatsapp: +506 6063-9111Visite nues
 tra página www.cedeso.co.crfacebook.com/cedesocostarica
DTSTART:20230614T143000Z
DTEND:20230615T180000Z
GEO:00;0
LOCATION:Virtual por Zoom
ORGANIZER;CN=:info@cedeso.co.cr
SEQUENCE:1
SUMMARY:Habilidades ejecutivas para asistentes\, oficinistas y auxiliares
TRANSP:OPAQUE
URL:https://cedeso.co.cr/eventos-anteriores/711-habilidades-ejecutivas-para
 -asistentes,-oficinistas-y-auxiliares
END:VEVENT
END:VCALENDAR
