BEGIN:VCALENDAR
VERSION:2.0
PRODID:-//Cedeso//NONSGML kigkonsult.se iCalcreator 2.30.10//
CALSCALE:GREGORIAN
METHOD:PUBLISH
UID:0daf3b10-9221-4883-b3cc-48d8866fb56a
X-WR-CALNAME:iCagenda
X-WR-CALDESC:Event Management Extension for Joomla!
X-WR-RELCALID:3E26604A-50F4-4449-8B3E-E4F4932D05B5
X-WR-TIMEZONE:America/Costa_Rica
BEGIN:VTIMEZONE
TZID:America/Costa_Rica
BEGIN:STANDARD
TZNAME:CST
DTSTART:20211002T060000
TZOFFSETFROM:+0000
TZOFFSETTO:-0600
END:STANDARD
END:VTIMEZONE
BEGIN:VEVENT
UID:cfe8b18a-985f-4c15-92d4-19654a8267f6
DTSTAMP:20260419T155951Z
CATEGORIES:Operaciones
CLASS:PUBLIC
DESCRIPTION;ALTREP="CID:<FFFF__=0ABBE548DFE235B58f9e8a93d@coffeebean.com>":
 Curso:\nGestión integral de la bodega: aspectos operacionales para agregar
  valor\nFecha: 4 y 5 de julio del 2023.Horario: 8:30 a.m. a 12:30 m.d.Dura
 ción: 8 horas.Plataforma: Zoom.Inversión: ¢80.000 + 2% de IVA por particip
 ante.Incluye: Material y certificado de participación en PDF.Facilitador: 
 Ing. Víctor León\, Mg.\nObjetivo del seminario:Estudiar un modelo práctico
  para el manejo correcto de una bodega independientemente de su tamaño\, u
 so y capacidad.\nQuién debe tomar este curso:Ingenieros industriales\, pro
 fesionales administrativos relacionados con la logística\, supervisores de
  bodegas\, compras o control de inventarios\, personal profesional en form
 ación para asumir cargos en cadena de suministro. Profesionales interesado
 s.\nNivel del curso:El curso está dirigidos a persona con formación superi
 or a nivel técnico o de licenciatura\, el enfoque es táctico y se usará un
  lenguaje técnico intermedio de fácil comprensión.\nMetodología:Teórico pr
 áctico\, se muestran videos\, casos de estudio y ejercicios.\nContenidos:1
 ) Gestión de bodegasObjetivo: Establecer el marco de conceptos y elementos
  de gestión necesarios para operar la bodega y definir sus procesos.• Prop
 ósito• Objetivos• Control de la bodega\n2) Modelo de control y gestión de 
 bodegaObjetivo: Estudiar en forma detallada los procesos de la bodega para
  lograr que esta sea generadora de valor y no consumidora de recursos.• La
  organización de la bodega\, aspectos esenciales• Inbound: Recepción y Put
 away• Almacenaje ◦ Normas de manejo de materiales ◦ Buenas prácticas de al
 macenaje ◦ Equipamiento de manejo y almacenamiento• Outbound: Picking\, Ch
 equeo\, Despacho• Otras operaciones• 5 s en bodega• Estrategias generales 
 para el manejo de bodegas\nFacilitador: Ing. Víctor León\, Mg.-Ingeniero I
 ndustrial con estudios de Postgrado en Ingeniería Industrial\, Gerencia de
  RRHH y Dinámica de Grupos.-Experiencia en las áreas de Distribución\, Ate
 nción al Cliente y Planificación de la Producción\, Manejo de Inventarios\
 , Almacenes\, Costos y Elaboración de Proyectos de Inversión.- Capacitador
  en áreas gerenciales y técnicas\, con 20 años de experiencia.\nTodas nues
 tras capacitaciones pueden ser impartidas en su organización\nInscripcione
 s e Información al e-mail info@cedeso.co.crTel: (506) 2225-1007 Fax: (506)
  2253-2774Visite nuestra página www.cedeso.co.crfacebook.com/cedesocostari
 ca
DTSTART:20230704T143000Z
DTEND:20230705T180000Z
GEO:00;0
LOCATION:Virtual por Zoom
ORGANIZER;CN=:info@cedeso.co.cr
SEQUENCE:1
SUMMARY:Gestión integral de la bodega
TRANSP:OPAQUE
URL:https://cedeso.co.cr/eventos-anteriores/712-gesti%C3%B3n-integral-de-la
 -bodega-3
END:VEVENT
END:VCALENDAR
