BEGIN:VCALENDAR
VERSION:2.0
PRODID:-//Cedeso//NONSGML kigkonsult.se iCalcreator 2.30.10//
CALSCALE:GREGORIAN
METHOD:PUBLISH
UID:8c517d5e-7a33-43d1-9210-b864c071023c
X-WR-CALNAME:iCagenda
X-WR-CALDESC:Event Management Extension for Joomla!
X-WR-RELCALID:3E26604A-50F4-4449-8B3E-E4F4932D05B5
X-WR-TIMEZONE:America/Costa_Rica
BEGIN:VTIMEZONE
TZID:America/Costa_Rica
BEGIN:STANDARD
TZNAME:CST
DTSTART:20211002T060000
TZOFFSETFROM:+0000
TZOFFSETTO:-0600
END:STANDARD
END:VTIMEZONE
BEGIN:VEVENT
UID:b175cb79-b666-4143-91e7-d0e7cd0d5dd6
DTSTAMP:20260419T161042Z
CATEGORIES:Operaciones
CLASS:PUBLIC
DESCRIPTION;ALTREP="CID:<FFFF__=0ABBE548DFE235B58f9e8a93d@coffeebean.com>":
 Taller:\nCómo abrir oportunidades en mercados internacionales\nFecha: 4 y 
 6 de julio del 2023.Horario: 8:30 a.m. a 11:30 a.m.Duración: 6 horas.Plata
 forma: Zoom.Inversión: ¢60.000 + 2% de IVA por participante.Incluye: Mater
 ial didáctico y certificado de participación en PDF.Facilitadora: Licda. Y
 orleny Jiménez.\nObjetivo: Analizar cada uno de los procesos que debe cons
 iderar una empresa para desarrollar un plan de internacionalización de man
 era eficiente y eficaz.\nContenido temático:1.Diagnóstico empresarial.• An
 álisis FODA.• Capacidad empresarial: (evaluación de su capacidad productiv
 a\, comercial\, financiera\, de RRHH y gerencial).• Diagnóstico empresaria
 l.• Desarrollo del plan estratégico.\n2.Diagnóstico de mercado.• Análisis 
 de posibles mercados meta.• Búsqueda de información para investigación de 
 mercados.• Estrategia de acceso y sostenibilidad en el mercado.• Conocimie
 nto del posible segmento del mercado.\n3.Diagnostico del marketing mix.• A
 nálisis del marketing mix (producto\, precio\, promoción\, plaza).\n4.Proc
 eso Aduanero de exportación.• Proceso de registro.• Documentos de exportac
 ión.• Proceso Aduanero de exportación.\nFacilitadora: Licda. Yorleny Jimén
 ez RojasGraduada con honores de la Universidad de Costa Rica en la carrera
  de Administración Aduanera y Comercio Exterior. Certificada como especial
 ista en Supply Chain de la Universidad de Nebrija en España.Actualmente co
 nsultora independiente con 20 años de experiencia en manejo y desarrollo d
 e procesos de internacionalización y logística especialmente para el secto
 r agrícola.Especialista en desarrollo de acompañamientos empresariales en 
 temas de importación\, exportación\, logística internacional\, entre otros
 .Profesora de la Universidad de Costa Rica\, Universidad FUNDEPOS y capaci
 tadora activa en diferentes Cámaras que agremia exportadores\, importadore
 s\, empresas PYMES\, entidades estatales\, colegios profesionales\, entre 
 otros.\nTodas nuestras capacitaciones pueden ser impartidas en su organiza
 ción\nInscripciones a: info@cedeso.co.crTel: +506 2225-1007 Whatsapp: +506
  6063-9111Visite nuestra página www.cedeso.co.crfacebook.com/cedesocostari
 ca
DTSTART:20230704T143000Z
DTEND:20230706T173000Z
GEO:00;0
LOCATION:Virtual por Zoom
ORGANIZER;CN=:info@cedeso.co.cr
SEQUENCE:1
SUMMARY:Cómo abrir oportunidades en mercados internacionales
TRANSP:OPAQUE
URL:https://cedeso.co.cr/eventos-anteriores/720-c%C3%B3mo-abrir-oportunidad
 es-en-mercados-internacionales
END:VEVENT
END:VCALENDAR
