BEGIN:VCALENDAR
VERSION:2.0
PRODID:-//Cedeso//NONSGML kigkonsult.se iCalcreator 2.30.10//
CALSCALE:GREGORIAN
METHOD:PUBLISH
UID:6f1b00c2-34cd-49af-b879-7a06a9593ba3
X-WR-CALNAME:iCagenda
X-WR-CALDESC:Event Management Extension for Joomla!
X-WR-RELCALID:3E26604A-50F4-4449-8B3E-E4F4932D05B5
X-WR-TIMEZONE:America/Costa_Rica
BEGIN:VTIMEZONE
TZID:America/Costa_Rica
BEGIN:STANDARD
TZNAME:CST
DTSTART:20211009T060000
TZOFFSETFROM:+0000
TZOFFSETTO:-0600
END:STANDARD
END:VTIMEZONE
BEGIN:VEVENT
UID:35049325-53d2-4b8b-8ef1-3e8885bdf1bf
DTSTAMP:20260419T155952Z
CATEGORIES:Mejores Prácticas Organizacionales
CLASS:PUBLIC
DESCRIPTION;ALTREP="CID:<FFFF__=0ABBE548DFE235B58f9e8a93d@coffeebean.com>":
 Taller:\nBootcamp de inteligencia emocional\nFecha: 11 y 18 de julio del 2
 023.Horario: 8:30 a.m. a 12:00 m.d.Duración: 7 horas.Plataforma: Zoom.Inve
 rsión: ¢95.000 + 2% de IVA por participante.Incluye: Material didáctico y 
 certificado de participación en PDF.\nMotivación: en un mundo de colaborac
 ión\, trabajo remoto y equipos ágiles\, es esencial desarrollar la intelig
 encia intra e interpersonal.\nObjetivos: las y los participantes podrán ex
 plicar\, aplicar y apreciar herramientas y capacidades de la inteligencia 
 intra e interpersonal.\nContenidos:• La inteligencia emocional es intra e 
 interpersonal y pone cinco componentes en acción. Ejercicio aplicado e int
 erpretación-acción con los participantes.• Los dominios del autoconocimien
 to (self awareness)\, la empatía y la escucha total\, la lectura interpers
 onal y la autorregulación. Su relación con las competencias componentes y 
 Tabla3 de estrategias para desarrollo de cada dominio.• Campo de práctica 
 de las dimensiones con ejercicios “Voz interior”\, “Botones calientes”\, “
 El helicóptero”\, “Reencuadre” y “Caja de Betari”. • El dominio de la auto
 motivación en IE y siete estrategias maestras para su desarrollo (los part
 icipantes desarrollan un ejercicio de aprendizaje intencionado en su traba
 jo). • Intelemoción y capacidades blandas: recursos para mejorar la inmuni
 dad al cambio\, motivación\, decisiones\, prioridades y comunicación asert
 iva.• ¡Con la empatía ya no basta! Los tres ejes de la pedagogía de la com
 pasión y el trabajo con la mentalidad de crecimiento y la voz interior. • 
 Supertema: manejo de la voz interior y la mentalidad compasiva en tiempos 
 difíciles.\nFacilitador: Dr. Enrique Margery- Doctor en Educación y TEDx s
 peaker.- Profesor invitado de la Universidad de Querétaro (UAQ\, México) y
  la Universidad UAGM (Puerto Rico).- Diseña capacitación para desarrollo d
 e soft skills basado en aprendizaje por la experiencia\, GBL y “reto-apren
 dizaje”.- Coach especialista en ciencia de la colaboración y manejo de top
  performers.- Diseña herramientas para medir el Sentido de Urgencia\, el “
 termómetro de la colaboración” y la rentabilidad de la capacitación\, entr
 e otros.- Autor de los libros “Complejidad y Competencias”\, “Herramientas
  de Coaching”\, “El Viaje” (Editorial Norma\; uno de los primeros libros d
 e psicología positiva publicados) y 'Bájate de la escalera'.\nTodas nuestr
 as capacitaciones pueden ser impartidas en su organización\nInscripciones 
 a info@cedeso.co.crTel: +506 2225-1007 Whatsapp: +506 6063-9111Visite nues
 tra página www.cedeso.co.crfacebook.com/cedesocostarica
DTSTART:20230711T143000Z
DTEND:20230718T180000Z
GEO:00;0
LOCATION:Virtual por Zoom
ORGANIZER;CN=:info@cedeso.co.cr
SEQUENCE:1
SUMMARY:Bootcamp de inteligencia emocional
TRANSP:OPAQUE
URL:https://cedeso.co.cr/eventos-anteriores/723-bootcamp-de-inteligencia-em
 ocional
END:VEVENT
END:VCALENDAR
