BEGIN:VCALENDAR
VERSION:2.0
PRODID:-//Cedeso//NONSGML kigkonsult.se iCalcreator 2.30.10//
CALSCALE:GREGORIAN
METHOD:PUBLISH
UID:199fedc5-056b-4882-a558-9671f7bacefa
X-WR-CALNAME:iCagenda
X-WR-CALDESC:Event Management Extension for Joomla!
X-WR-RELCALID:3E26604A-50F4-4449-8B3E-E4F4932D05B5
X-WR-TIMEZONE:America/Costa_Rica
BEGIN:VTIMEZONE
TZID:America/Costa_Rica
BEGIN:STANDARD
TZNAME:CST
DTSTART:20220108T060000
TZOFFSETFROM:+0000
TZOFFSETTO:-0600
END:STANDARD
END:VTIMEZONE
BEGIN:VEVENT
UID:ce03860e-3dea-4740-946b-8edb04d0a701
DTSTAMP:20260419T143108Z
CATEGORIES:Mejores Prácticas Organizacionales
CLASS:PUBLIC
DESCRIPTION;ALTREP="CID:<FFFF__=0ABBE548DFE235B58f9e8a93d@coffeebean.com>":
 Taller interactivo:\nDescripción de puestos\, perfiles de competencias y e
 valuación del desempeño\, utilizando el método 360°\n \nFecha: 10 y 11 de 
 octubre del 2023.Horario: 9:00 a.m. a 11:00 a.m.Duración: 4 horas.Platafor
 ma: Zoom.Inversión: ¢65.000 + 2% de IVA por participante.Incluye: Material
  y certificado de participación en PDF.\nObjetivo:Explicar a los participa
 ntes las herramientas y técnicas para realizar la descripción de puestos\,
  los perfiles de competencias y evaluar el desempeño acorde a la estrategi
 a de su Organización\, así como determinar los indicadores claves para med
 ir estas actividades y su cálculo a través de plantillas en Excel.\nConten
 ido temático:• Enfoque estratégico y sistémico de la descripción de puesto
 s\, perfiles de competencia y evaluación del desempeño. • Metodología para
  la descripción de puestos. Ejemplos prácticos. • Conceptualización de com
 petencias laborales. • Procedimiento para identificar las competencias lab
 orales y conformar los perfiles de competencias. • Formato para presentar 
 los perfiles de competencias. • Ejemplos prácticos de perfiles de competen
 cias a nivel de puesto\, proceso y Organización. • Plantilla en EXCEL para
  calcular el índice de competencia por método 360°.• Formato para evaluar 
 el desempeño por el método 360°• Plantilla en EXCEL para evaluar el desemp
 eño según el método 360°.\nFacilitadores: Yoany Rodríguez Cruz. Aspirante 
 a Doctor en Ciencias Pedagógicas\, Máster en Administración de Empresas\, 
 Licenciado en Educación\, Diplomado en Gestión Empresarial y Administració
 n Pública. Posee más de 15 años de experiencia como directivo y consultor 
 en gestión empresarial\, especializado en temas gerenciales y estudios org
 anizacionales como son: Planificación Estratégica\, Cuadro de Mando Integr
 al\, Gestión del Talento\, Responsabilidad Social Empresarial\, Sistemas I
 ntegrados de Gestión\, Coaching en procesos de cambio y mejora\, entre otr
 os temas\, Conferencista en Congresos Internacionales de Gestión Empresari
 al y autor de varias publicaciones relacionadas con la Gestión del Talento
 . Creador del Modelo GESTAL. Profesor adjunto de la Universidad. Tutor de 
 Tesis de Licenciatura y Maestría. Socio Fundador de C.C.Consultores.\nMaga
 lys Hernández González: Máster en Administración de Empresas\, Licenciada 
 en Educación\, Diplomado en Dirección y Gestión Empresarial y Administraci
 ón Pública. Posee 25 años de experiencia en la actividad docente como prof
 esora universitaria y 10 años como consultora\, especializada en temas de 
 gestión del talento\, competencias laborales\, clima laboral\, evaluación 
 del desempeño y equidad de género. Conferencista en Congresos y eventos in
 ternacionales y autora de varias publicaciones relacionadas con Planificac
 ión Estratégica\, Cuadro de Mando Integral\, Gestión del Talento\, Respons
 abilidad Social Empresarial\, Sistemas Integrados de Gestión\, entre otros
  temas. Tutora de Tesis de Maestría y Fundadora de C.C.Consultores.\nTodas
  nuestras capacitaciones pueden ser impartidas en su organización\nInscrip
 ciones a info@cedeso.co.crTel: +506 2225-1007Whataspp: +506 6063-9111Visit
 e nuestra página www.cedeso.co.crfacebook.com/cedesocostarica
DTSTART:20231010T150000Z
DTEND:20231011T170000Z
GEO:00;0
LOCATION:Virtual por Zoom
ORGANIZER;CN=:info@cedeso.co.cr
SEQUENCE:1
SUMMARY:Descripción de puestos\, perfiles de competencias y evaluación del 
 desempeño\, utilizando el método 360°
TRANSP:OPAQUE
URL:https://cedeso.co.cr/eventos-anteriores/724-descripci%C3%B3n-de-puestos
 ,-perfiles-de-competencias-y-evaluaci%C3%B3n-del-desempe%C3%B1o,-utilizand
 o-el-m%C3%A9todo-360%C2%B0-4
END:VEVENT
END:VCALENDAR
