BEGIN:VCALENDAR
VERSION:2.0
PRODID:-//Cedeso//NONSGML kigkonsult.se iCalcreator 2.30.10//
CALSCALE:GREGORIAN
METHOD:PUBLISH
UID:6c2a66a3-160f-4fe0-8922-5c672acba232
X-WR-CALNAME:iCagenda
X-WR-CALDESC:Event Management Extension for Joomla!
X-WR-RELCALID:3E26604A-50F4-4449-8B3E-E4F4932D05B5
X-WR-TIMEZONE:America/Costa_Rica
BEGIN:VTIMEZONE
TZID:America/Costa_Rica
BEGIN:STANDARD
TZNAME:CST
DTSTART:20211218T060000
TZOFFSETFROM:+0000
TZOFFSETTO:-0600
END:STANDARD
END:VTIMEZONE
BEGIN:VEVENT
UID:d1a08158-e9d9-496a-bb98-5a1e7a4e044c
DTSTAMP:20260419T142657Z
CATEGORIES:Operaciones
CLASS:PUBLIC
DESCRIPTION;ALTREP="CID:<FFFF__=0ABBE548DFE235B58f9e8a93d@coffeebean.com>":
 Seminario:\nInventario cíclico\nUn método para mejorar continuamente\nFech
 a: 19 y 20 de setiembre del 2023.Horario: 8:30 a.m. a 12:30 m.d.Duración: 
 8 horas.Modalidad: Virtual.Plataforma: Zoom.Inversión: ¢75.000 + 2% de IVA
  por participante.Incluye: Material y certificado de participación en PDF.
 \nObjetivo del seminario: Presentar a los participantes un método práctico
  y probado para implementar un efectivo control de su inventario físico qu
 e garantice exactitudes superiores al 95%\nTemario: • Control de inventari
 o físico eslabón entre la bodega y la administración de inventarios. • Cla
 sificación Abc. • Metodología de toma del inventario físico. • Qué es y có
 mo se implementa un inventario cíclico. • Control preventivo de pérdidas y
  variaciones de inventario. • Implementación de un sistema de mejora conti
 nua vía inventario cíclico.\nFacilitador: Ing. Víctor León\, Mg.Ingeniero 
 Industrial con estudios de Postgrado en Ingeniería Industrial\, Gerencia d
 e RRHH y Dinámica de Grupos. Experiencia en las áreas de Distribución\, At
 ención al Cliente y Planificación de la Producción\, Manejo de Inventarios
 \, Almacenes\, Costos y Elaboración de Proyectos de Inversión. Certificaci
 ón como conferencista internacional. Miembro de la asociación de conferenc
 istas Hispanos. Capacitador en áreas gerenciales y técnicas\, con 20 años 
 de experiencia.\nTodas nuestras capacitaciones pueden ser impartidas en su
  organización.\nInscripciones a: info@cedeso.co.crTel: +506 2225-1007Whats
 app: +506 6063-9111Visite nuestra página www.cedeso.co.crfacebook.com/cede
 socostarica
DTSTART:20230919T143000Z
DTEND:20230920T183000Z
GEO:00;0
LOCATION:Virtual por Zoom
ORGANIZER;CN=:info@cedeso.co.cr
SEQUENCE:1
SUMMARY:Inventario cíclico
TRANSP:OPAQUE
URL:https://cedeso.co.cr/eventos-anteriores/727-inventario-c%C3%ADclico-3
END:VEVENT
END:VCALENDAR
