BEGIN:VCALENDAR
VERSION:2.0
PRODID:-//Cedeso//NONSGML kigkonsult.se iCalcreator 2.30.10//
CALSCALE:GREGORIAN
METHOD:PUBLISH
UID:278b84a1-ef59-476a-a530-fe6deb870a2d
X-WR-CALNAME:iCagenda
X-WR-CALDESC:Event Management Extension for Joomla!
X-WR-RELCALID:3E26604A-50F4-4449-8B3E-E4F4932D05B5
X-WR-TIMEZONE:America/Costa_Rica
BEGIN:VTIMEZONE
TZID:America/Costa_Rica
BEGIN:STANDARD
TZNAME:CST
DTSTART:20211025T060000
TZOFFSETFROM:+0000
TZOFFSETTO:-0600
END:STANDARD
END:VTIMEZONE
BEGIN:VEVENT
UID:62e2186e-c091-4345-aff7-8dc2d29675d8
DTSTAMP:20260419T160609Z
CATEGORIES:Mejores Prácticas Organizacionales
CLASS:PUBLIC
DESCRIPTION;ALTREP="CID:<FFFF__=0ABBE548DFE235B58f9e8a93d@coffeebean.com>":
 Taller:\nCómo realizar onboarding e inducciones prácticas y efectivas\nFec
 ha: 27 y 28 de julio del 2023.Horario: 8:30 a.m. a 12:00 m.d.Duración: 7 h
 oras.Metodología: Virtual. Plataforma: Zoom.Inversión: ¢80.000 + 2% de IVA
  por participante. Incluye: Material y certificado de participación en PDF
 .\nDirigido a Todo nivel de gestores del talento responsables o involucrad
 os en la gestión de la capacitación.Interesados en el diseño y gestión del
  onboarding y las inducciones.\nObjetivoPaso a paso cómo ser capaz de dise
 ñar un programa de onboarding e inducción para que los nuevos colaboradore
 s sean competentes y se integren a sus equipos y a la cultura de la organi
 zación.\nContenidos• Modificar el proceso para lograr eficiencia en el pue
 sto e integración a la cultura de la organización.• La inducción vs el onb
 oarding\, cómo evolucionamos a este nuevo concepto y qué implica en la prá
 ctica.• Principios teóricos del porqué de un excelente onboarding.• Los tr
 es componentes del diseño.• Paso a paso para desarrollar cualquier inducci
 ón: componentes del diseño.- La nueva y retadora realidad- La creación del
  equipo para el proyecto.- Ejemplos de herramientas para ayudar en la impl
 ementación y control.- Onboarding y desarrollo del talento.• Experiencias 
 de éxito en la implementación.\nFacilitador: Lic. Carlos Solera Umaña Lice
 nciado en administración de negocios\, certificado en Compensación y Benef
 icios y en Competencias\, técnico en seguros. Más de 30 años de experienci
 a en todos los subprocesos de Gestión de RRHH. Amplia experiencia en organ
 izaciones de manufactura\, servicios\, cooperativas y ONG’s. Actual fundad
 or y director de CEDESO.S.A.\nTodas nuestras capacitaciones pueden ser imp
 artidas en su organización\nInscripciones a: info@cedeso.co.crTel: +506 22
 25-1007 Whatsapp: +506 6063-9111Visite nuestra página www.cedeso.co.crface
 book.com/cedesocostarica
DTSTART:20230727T143000Z
DTEND:20230728T180000Z
GEO:00;0
LOCATION:Virtual por Zoom
ORGANIZER;CN=:info@cedeso.co.cr
SEQUENCE:1
SUMMARY:Cómo realizar onboarding e inducciones prácticas y efectivas
TRANSP:OPAQUE
URL:https://cedeso.co.cr/eventos-anteriores/728-c%C3%B3mo-realizar-onboardi
 ng-e-inducciones-pr%C3%A1cticas-y-efectivas
END:VEVENT
END:VCALENDAR
