BEGIN:VCALENDAR
VERSION:2.0
PRODID:-//Cedeso//NONSGML kigkonsult.se iCalcreator 2.30.10//
CALSCALE:GREGORIAN
METHOD:PUBLISH
UID:696f1ed8-2533-447b-b3d5-1403c5b45043
X-WR-CALNAME:iCagenda
X-WR-CALDESC:Event Management Extension for Joomla!
X-WR-RELCALID:3E26604A-50F4-4449-8B3E-E4F4932D05B5
X-WR-TIMEZONE:America/Costa_Rica
BEGIN:VTIMEZONE
TZID:America/Costa_Rica
BEGIN:STANDARD
TZNAME:CST
DTSTART:20211107T060000
TZOFFSETFROM:+0000
TZOFFSETTO:-0600
END:STANDARD
END:VTIMEZONE
BEGIN:VEVENT
UID:65466f6e-1931-4bd6-a285-252ee5302a01
DTSTAMP:20260419T160248Z
CATEGORIES:Operaciones
CLASS:PUBLIC
DESCRIPTION;ALTREP="CID:<FFFF__=0ABBE548DFE235B58f9e8a93d@coffeebean.com>":
 Taller:\n¿Cómo realizar una importación de una manera efectiva y eficiente
 ?\n \nFecha: 9 y 10 de agosto del 2023.Horario: 8:30 a.m. a 11:30 a.m.Dura
 ción: 6 horas.Plataforma: Zoom.Inversión: ¢60.000 + 2% de IVA por particip
 ante.Incluye: Material didáctico y certificado de participación en PDF.\nO
 bjetivo: Brindar un apoyo integral a los interesados con el fin de optimiz
 ar sus operaciones de importación\, proporcionando los conocimientos y ayu
 da necesaria para afrontar de forma exitosa su negocio\, bajo un marco pre
 ventivo que le garantice minimizar los riesgos que pueden impactar el desa
 rrollo de sus operaciones aduaneras.\nContenido temático:1.Negociación con
  proveedores internacionales:• Contratos de compra venta internacional.• T
 érminos de Comercio Internacional 2020.• Medios y formas de pago.\n2. Logí
 stica internacional y la participación de proveedores logísticos.\n3. Proc
 eso de importación:• Obligaciones del importador.• Documentos de importaci
 ón.• Requisitos técnicos.• Proceso de importación marítima\, aérea\, terre
 stre.• Errores comunes.\n4. Riestos logísticos y fiscales.\nFacilitadora: 
 Licda. Yorleny Jiménez RojasGraduada con honores de la Universidad de Cost
 a Rica en la carrera de Administración Aduanera y Comercio Exterior. Certi
 ficada como especialista en Supply Chain de la Universidad de Nebrija en E
 spaña.Actualmente consultora independiente con 20 años de experiencia en m
 anejo y desarrollo de procesos de internacionalización y logística especia
 lmente para el sector agrícola.Especialista en desarrollo de acompañamient
 os empresariales en temas de importación\, exportación\, logística interna
 cional\, entre otros.Profesora de la Universidad de Costa Rica\, Universid
 ad FUNDEPOS y capacitadora activa en diferentes Cámaras que agremia export
 adores\, importadores\, empresas PYMES\, entidades estatales\, colegios pr
 ofesionales\, entre otros.\nTodas nuestras capacitaciones pueden ser impar
 tidas en su organización\nInscripciones a: info@cedeso.co.crTel: +506 2225
 -1007 Whatsapp: +506 6063-9111Visite nuestra página www.cedeso.co.crfacebo
 ok.com/cedesocostarica
DTSTART:20230809T143000Z
DTEND:20230810T173000Z
GEO:00;0
LOCATION:Virtual por Zoom
ORGANIZER;CN=:info@cedeso.co.cr
SEQUENCE:1
SUMMARY:¿Cómo realizar una importación de una manera efectiva y eficiente?
TRANSP:OPAQUE
URL:https://cedeso.co.cr/eventos-anteriores/729-%C2%BFc%C3%B3mo-realizar-un
 a-importaci%C3%B3n-de-una-manera-efectiva-y-eficiente
END:VEVENT
END:VCALENDAR
