BEGIN:VCALENDAR
VERSION:2.0
PRODID:-//Cedeso//NONSGML kigkonsult.se iCalcreator 2.30.10//
CALSCALE:GREGORIAN
METHOD:PUBLISH
UID:bd93aa82-3bde-40ce-9386-002b503c618e
X-WR-CALNAME:iCagenda
X-WR-CALDESC:Event Management Extension for Joomla!
X-WR-RELCALID:3E26604A-50F4-4449-8B3E-E4F4932D05B5
X-WR-TIMEZONE:America/Costa_Rica
BEGIN:VTIMEZONE
TZID:America/Costa_Rica
BEGIN:STANDARD
TZNAME:CST
DTSTART:20170115T060000
TZOFFSETFROM:+0000
TZOFFSETTO:-0600
END:STANDARD
END:VTIMEZONE
BEGIN:VEVENT
UID:f78e7918-ffb4-4a06-9dac-9700bf7b78ff
DTSTAMP:20260423T083146Z
CATEGORIES:Compensaciones y beneficios
CLASS:PUBLIC
DESCRIPTION;ALTREP="CID:<FFFF__=0ABBE548DFE235B58f9e8a93d@coffeebean.com>":
 Taller:\nDesarrollo de Habilidades Blandas (Soft Skills)\nUn curso para sa
 car a la luz la mejor versión de usted mismo\nContenidos:¿Qué son las habi
 lidades blandas y cómo se aprenden?Comunicación y Negociación.Empatía\, in
 fluencia y liderazgo.Trabajo en equipo.Toma de decisiones.Trust Building.R
 esolución de conflictos.Autoregulación.\nObjetivo:Al finalizar este taller
  la persona contará con un kit de herramientas para aplicar diferentes est
 rategias que fortalezcan su forma de gestionar con éxito su vida personal 
 así como sus relaciones interpersonales y laborales.\nFecha: 17 de octubre
  del 2018.Horario: 8:00 a.m. a 5:00 p.m.Duración: 8 horas.Lugar: Hotel Bal
 moral\, San José.Inversión: ¢95.000 por persona.Incluye: Alimentación\, ma
 terial didáctico y certificado de participación.\nFacilitadora: Licda. Gin
 a Sequeira\, psicóloga certificada en Business Coaching\, con más de 15 añ
 os de experiencia en el diseño de procesos de capacitación vinculados al d
 esarrollo de habilidades blandas y el fortalecimiento de equipos de alto d
 esempeño.\nTodas nuestras capacitaciones pueden ser impartidas en su organ
 ización.\nInscripciones e Información al e-mail info@cedeso.co.crTel: (506
 ) 2225-1007 Fax: (506) 2253-2774Visite nuestra página www.cedeso.co.crface
 book.com/cedesocostarica
DTSTART:20181017T140000Z
DTEND:20181017T230000Z
GEO:+09.933701;-84.075165
LOCATION:Hotel Balmoral\, San José
ORGANIZER;CN=:info@cedeso.co.cr
SEQUENCE:1
SUMMARY:Desarrollo de Habilidades Blandas (Soft Skills)
TRANSP:OPAQUE
URL:https://cedeso.co.cr/eventos-anteriores/73-desarrollo-de-habilidades-bl
 andas-soft-skills
END:VEVENT
END:VCALENDAR
