BEGIN:VCALENDAR
VERSION:2.0
PRODID:-//Cedeso//NONSGML kigkonsult.se iCalcreator 2.30.10//
CALSCALE:GREGORIAN
METHOD:PUBLISH
UID:1d849a31-9c4a-4e56-b745-7f0b65a45ee3
X-WR-CALNAME:iCagenda
X-WR-CALDESC:Event Management Extension for Joomla!
X-WR-RELCALID:3E26604A-50F4-4449-8B3E-E4F4932D05B5
X-WR-TIMEZONE:America/Costa_Rica
BEGIN:VTIMEZONE
TZID:America/Costa_Rica
BEGIN:STANDARD
TZNAME:CST
DTSTART:20211102T060000
TZOFFSETFROM:+0000
TZOFFSETTO:-0600
END:STANDARD
END:VTIMEZONE
BEGIN:VEVENT
UID:37949779-bfed-4080-a8d0-ccfe033abf23
DTSTAMP:20260419T161231Z
CATEGORIES:Mejores Prácticas Organizacionales
CLASS:PUBLIC
DESCRIPTION;ALTREP="CID:<FFFF__=0ABBE548DFE235B58f9e8a93d@coffeebean.com>":
 Taller:\nHerramientas para medir y mejorar el clima organizacional\n(Para 
 conocer\, evaluar y mejorar el clima organizacional en la nueva normalidad
 )\nBonus: ¡Un taller extra-potente al hacerlo in house!\nFecha: 4 y 11 de 
 agosto del 2023.Horario: 8:30 a.m. a 12:00 m.d.Duración: 7 horas.Plataform
 a: Zoom.Inversión: ¢95.000 + 2% de IVA por participante.Incluye: Material 
 didáctico y certificado de participación en PDF.Facilitador: Dr. Enrique M
 argery\nContenidos:• ¿Qué es el clima organizacional? y ¿Cuál es la difere
 ncia con la cultura organizacional? Análisis de campo de fuerzas de factor
 es que mejoran y desmejoran el clima organizacional.• Mejores prácticas pa
 ra medir el clima organizacional. La encuesta de clima apoyada en design t
 hinking y experiencia de usuario. Modelos restringido (de 6) y maestro de 
 13 variables. (Con ejercicio de reactivos adaptados\, en la versión in hou
 se del curso).• Las estrategias para intervenir y mejorar el clima organiz
 acional.• Nueva normalidad y su impacto en las variables de clima organiza
 cional. Relación entre las variables de clima y el engagement y bienestar 
 de las personas en la empresa.• Estrategias para impulsar un clima positiv
 o en un entorno complicado y retador.• La gestión del clima organizacional
  en el entorno híbrido (Con ejercicio “El helicóptero/CO”\, en la versión 
 in house del curso).\nFacilitador: Dr. Enrique Margery- Doctor en Educació
 n y TEDx speaker.- Profesor invitado de la Universidad de Querétaro (UAQ\,
  México) y la Universidad UAGM (Puerto Rico).- Diseña capacitación para de
 sarrollo de soft skills basado en aprendizaje por la experiencia\, GBL y “
 reto-aprendizaje”.- Coach especialista en ciencia de la colaboración y man
 ejo de top performers.- Diseña herramientas para medir el Sentido de Urgen
 cia\, el “termómetro de la colaboración” y la rentabilidad de la capacitac
 ión\, entre otros.- Autor de los libros “Complejidad y Competencias”\, “He
 rramientas de Coaching”\, “El Viaje” (Editorial Norma\; uno de los primero
 s libros de psicología positiva publicados) y 'Bájate de la escalera'.\nTo
 das nuestras capacitaciones pueden ser impartidas en su organización\nInsc
 ripciones a info@cedeso.co.crTel: +506 2225-1007 Whatsapp: +506 6063-9111V
 isite nuestra página www.cedeso.co.crfacebook.com/cedesocostarica
DTSTART:20230804T143000Z
DTEND:20230811T180000Z
GEO:00;0
LOCATION:Virtual por Zoom
ORGANIZER;CN=:info@cedeso.co.cr
SEQUENCE:1
SUMMARY:Herramientas para medir y mejorar el clima organizacional
TRANSP:OPAQUE
URL:https://cedeso.co.cr/eventos-anteriores/732-herramientas-para-medir-y-m
 ejorar-el-clima-organizacional
END:VEVENT
END:VCALENDAR
