BEGIN:VCALENDAR
VERSION:2.0
PRODID:-//Cedeso//NONSGML kigkonsult.se iCalcreator 2.30.10//
CALSCALE:GREGORIAN
METHOD:PUBLISH
UID:d9944a8d-bf13-496a-b7cf-5d1867fdc3a0
X-WR-CALNAME:iCagenda
X-WR-CALDESC:Event Management Extension for Joomla!
X-WR-RELCALID:3E26604A-50F4-4449-8B3E-E4F4932D05B5
X-WR-TIMEZONE:America/Costa_Rica
BEGIN:VTIMEZONE
TZID:America/Costa_Rica
BEGIN:STANDARD
TZNAME:CST
DTSTART:20211204T060000
TZOFFSETFROM:+0000
TZOFFSETTO:-0600
END:STANDARD
END:VTIMEZONE
BEGIN:VEVENT
UID:ccff72dd-ea10-4a12-b32d-f0fde5fc4d28
DTSTAMP:20260419T161220Z
CATEGORIES:Mejores Prácticas Organizacionales
CLASS:PUBLIC
DESCRIPTION;ALTREP="CID:<FFFF__=0ABBE548DFE235B58f9e8a93d@coffeebean.com>":
 Taller:\nEl cubo del cambio de la cultura organizacional\n(Conocer\, aline
 ar y transformar la Cultura Organizacional)\nBonus: ¡Un taller extra-poten
 te al hacerlo in house!\nFecha: 5 y 12 de setiembre del 2023.Horario: 8:30
  a.m. a 12:00 m.d.Duración: 7 horas.Plataforma: Zoom.Inversión: ¢95.000 + 
 2% de IVA por participante.Incluye: Material didáctico y certificado de pa
 rticipación en PDF.\nContenidos:1. Cultura estratégica y esfuerzos de camb
 io climático: programas y acciones de cambio cultural que va más allá del 
 mejoramiento del clima organizacional.2. Los valores organizacionales: ¿Qu
 é son y cómo se definen? Los dos componentes centrales de los valores orga
 nizacionales. 3. Un modelo de cultura organizacional en cuatro dimensiones
  ¿Cuál es la cultura de nuestra organización? Con aplicación de herramient
 a de perfil de cultura (Con detección de perfiles por área en la versión i
 n house del curso).4. Cultura expuesta y cultura en uso: ¿Cuáles son nuest
 ros valores en realidad? Aplicación del modelo del “cubo de cambio” para i
 mpulsar un valor en la cultura. Impacto del trabajo híbrido: intervencione
 s culturales clave en la nueva normalidad.5. Los tres ejes de la intervenc
 ión en la cultura. Conociendo las tres dimensiones que deben ser coordinad
 as para lograr el cambio.6. ¿Por dónde fallan los programas de cambio cult
 ural que no pegan? (Para la versión in house del curso: Taller de cubno de
 l cambio aplicado a la propia empresa).\nFacilitador: Dr. Enrique Margery-
  Doctor en Educación y TEDx speaker.- Profesor invitado de la Universidad 
 de Querétaro (UAQ\, México) y la Universidad UAGM (Puerto Rico).- Diseña c
 apacitación para desarrollo de soft skills basado en aprendizaje por la ex
 periencia\, GBL y “reto-aprendizaje”.- Coach especialista en ciencia de la
  colaboración y manejo de top performers.- Diseña herramientas para medir 
 el Sentido de Urgencia\, el “termómetro de la colaboración” y la rentabili
 dad de la capacitación\, entre otros.- Autor de los libros “Complejidad y 
 Competencias”\, “Herramientas de Coaching”\, “El Viaje” (Editorial Norma\;
  uno de los primeros libros de psicología positiva publicados) y 'Bájate d
 e la escalera'.\nTodas nuestras capacitaciones pueden ser impartidas en su
  organización\nInscripciones a info@cedeso.co.crTel: +506 2225-1007 Whatsa
 pp: +506 6063-9111Visite nuestra página www.cedeso.co.crfacebook.com/cedes
 ocostarica
DTSTART:20230905T143000Z
DTEND:20230912T180000Z
GEO:00;0
LOCATION:Virtual por Zoom
ORGANIZER;CN=:info@cedeso.co.cr
SEQUENCE:1
SUMMARY:El cubo del cambio de la cultura organizacional
TRANSP:OPAQUE
URL:https://cedeso.co.cr/eventos-anteriores/733-el-cubo-del-cambio-de-la-cu
 ltura-organizacional
END:VEVENT
END:VCALENDAR
