BEGIN:VCALENDAR
VERSION:2.0
PRODID:-//Cedeso//NONSGML kigkonsult.se iCalcreator 2.30.10//
CALSCALE:GREGORIAN
METHOD:PUBLISH
UID:dce28d6a-5674-40a3-9ba8-67668bc799c7
X-WR-CALNAME:iCagenda
X-WR-CALDESC:Event Management Extension for Joomla!
X-WR-RELCALID:3E26604A-50F4-4449-8B3E-E4F4932D05B5
X-WR-TIMEZONE:America/Costa_Rica
BEGIN:VTIMEZONE
TZID:America/Costa_Rica
BEGIN:STANDARD
TZNAME:CST
DTSTART:20211115T060000
TZOFFSETFROM:+0000
TZOFFSETTO:-0600
END:STANDARD
END:VTIMEZONE
BEGIN:VEVENT
UID:5dcadacc-4fea-4b2c-bbba-de757ed53700
DTSTAMP:20260419T161046Z
CATEGORIES:Mejores Prácticas Organizacionales
CLASS:PUBLIC
DESCRIPTION;ALTREP="CID:<FFFF__=0ABBE548DFE235B58f9e8a93d@coffeebean.com>":
 Taller\nLa pre entrevista en 5 minutos\n¿Cómo agilizar el proceso de selec
 ción conservando la calidad?Paso a paso la estrategia para filtrar las com
 pentencias principales\nFecha: 17 y 18 agosto del 2023.Horario: 8:30 a.m. 
 a 12:00 m.d.Duración: 7 horas.Plataforma: Zoom.Inversión: ¢85.000 + 2% de 
 IVA por participante.Incluye: Material y certificado de participación en v
 ersión digital.Facilitador: Lic. Carlos Solera\nDirigido a: Todo nivel de 
 gestores de RR.HH. y quienes realicen entrevistas de selección.\nContenido
 s:• El proceso de reclutamiento y selección en el 2023.• Temas a incluir e
 n la lista de control de la preselección.• Análisis del perfil del cargo\,
  aspectos claves.• El uso de herramientas de evaluación.• La Matriz de cal
 ificación de las entrevistas.• Múltiples ejemplos de preguntas inusuales.
 \nFacilitador: Lic. Carlos Solera Umaña Profesional con más de 30 años de 
 experiencia en la gestión del talento.Certificado en Gestión por Competenc
 ias y Compensación. Experiencia en variedad de industrias y en Centroaméri
 ca.\nTodas nuestras capacitaciones pueden ser impartidas en su organizació
 n\nInscripciones a: info@cedeso.co.crTel: +506 2225-1007 Whatsapp: +506 60
 63-9111Visite nuestra página www.cedeso.co.crfacebook.com/cedesocostarica
DTSTART:20230817T143000Z
DTEND:20230818T180000Z
GEO:00;0
LOCATION:Virtual por Zoom
ORGANIZER;CN=:info@cedeso.co.cr
SEQUENCE:1
SUMMARY:La pre entrevista en 5 minutos
TRANSP:OPAQUE
URL:https://cedeso.co.cr/eventos-anteriores/734-la-pre-entrevista-en-5-minu
 tos-2
END:VEVENT
END:VCALENDAR
