BEGIN:VCALENDAR
VERSION:2.0
PRODID:-//Cedeso//NONSGML kigkonsult.se iCalcreator 2.30.10//
CALSCALE:GREGORIAN
METHOD:PUBLISH
UID:017b086a-5f1e-480b-947b-b24e6a493fe7
X-WR-CALNAME:iCagenda
X-WR-CALDESC:Event Management Extension for Joomla!
X-WR-RELCALID:3E26604A-50F4-4449-8B3E-E4F4932D05B5
X-WR-TIMEZONE:America/Costa_Rica
BEGIN:VTIMEZONE
TZID:America/Costa_Rica
BEGIN:STANDARD
TZNAME:CST
DTSTART:20211107T060000
TZOFFSETFROM:+0000
TZOFFSETTO:-0600
END:STANDARD
END:VTIMEZONE
BEGIN:VEVENT
UID:76b7f4e8-ab34-48c6-8920-4d3d138bce3e
DTSTAMP:20260419T161048Z
CATEGORIES:Mejores Prácticas Organizacionales
CLASS:PUBLIC
DESCRIPTION;ALTREP="CID:<FFFF__=0ABBE548DFE235B58f9e8a93d@coffeebean.com>":
 Taller:\nLa evaluación y valoración de puestos y el diseño de estructuras 
 salariales\nFecha: 9\, 10 y 11 agosto del 2023.Horario: 8:30 a.m. a 12:00 
 m.d.Duración total: 10.5 horas.Plataforma: ZoomInversión: ¢95.000 + 2% de 
 IVA por participante. Incluye: Tablas de valoración de puntos y factores (
 Sistema en uso en USA)\, material didáctico y certificado de participación
  en versión digital.\nPúblico objetivo: Generalistas de RR.HH.\, Gestores 
 de Personas\, Responsables de Compensación novatos y otros profesionales i
 nteresados en expandir conocimiento en el tema.\nContenidos:• Introducción
 : El Proceso de Compensación.• El concepto de factores compensables.• Ejem
 plos de factores compensables.• Métodos para evaluar el contenido de los p
 uestos.• El método de factores y puntos.• Ejercicios para aprender a evalu
 ar puestos y usar los factores de control.• La equidad interna y su relaci
 ón con las estructuras salariales.• Cómo se originan los niveles o grados 
 de los puestos.• Desarrollo de línea de paga.• Pasos para el desarrollo de
  estructuras salariales.• La Estructura Salarial y la Administración de Au
 mentos.\nFacilitador: Lic. Carlos Solera Umaña. Licenciado en administraci
 ón de negocios. Certificado en Compensación y Competencias. Amplia experie
 ncia en Compensación y Beneficios en Latinoamérica.\nTodas nuestras capaci
 taciones pueden ser impartidas en su organización\nInscripciones a: info@c
 edeso.co.crTel: +506 2225-1007Whatsapp: +506 6063-9111Visite nuestra págin
 a www.cedeso.co.crfacebook.com/cedesocostarica
DTSTART:20230809T143000Z
DTEND:20230811T180000Z
GEO:00;0
LOCATION:Virtual por Zoom
ORGANIZER;CN=:info@cedeso.co.cr
SEQUENCE:1
SUMMARY:La evaluación y valoración de puestos y el diseño de estructuras sa
 lariales
TRANSP:OPAQUE
URL:https://cedeso.co.cr/eventos-anteriores/735-la-evaluaci%C3%B3n-y-valora
 ci%C3%B3n-de-puestos-y-el-dise%C3%B1o-de-estructuras-salariales
END:VEVENT
END:VCALENDAR
