BEGIN:VCALENDAR
VERSION:2.0
PRODID:-//Cedeso//NONSGML kigkonsult.se iCalcreator 2.30.10//
CALSCALE:GREGORIAN
METHOD:PUBLISH
UID:a9b49d77-ab46-40a2-8c1c-21389d1344c3
X-WR-CALNAME:iCagenda
X-WR-CALDESC:Event Management Extension for Joomla!
X-WR-RELCALID:3E26604A-50F4-4449-8B3E-E4F4932D05B5
X-WR-TIMEZONE:America/Costa_Rica
BEGIN:VTIMEZONE
TZID:America/Costa_Rica
BEGIN:STANDARD
TZNAME:CST
DTSTART:20211120T060000
TZOFFSETFROM:+0000
TZOFFSETTO:-0600
END:STANDARD
END:VTIMEZONE
BEGIN:VEVENT
UID:585ad952-b1af-4366-a55e-c11bbc66e514
DTSTAMP:20260419T155955Z
CATEGORIES:Mejores Prácticas Organizacionales
CLASS:PUBLIC
DESCRIPTION;ALTREP="CID:<FFFF__=0ABBE548DFE235B58f9e8a93d@coffeebean.com>":
 Taller:\nRedacción de informes técnicos\nFecha: 22 y 29 de agosto y 5 y 12
  de setiembre del 2023.Horario: 10:00 a.m. a 12:00 m.d.Duración: 8 horas.P
 lataforma: Zoom.Inversión: ¢80.000 + 2% de IVA por participante.Incluye: M
 aterial didáctico y certificado de participación en PDF.\nObjetivo general
 :Transmitir técnicas efectivas a los participantes que les permitan expres
 arse por escrito con eficacia\, objetividad\, coherencia\, precisión y cla
 ridad\, según la situación comunicativa\, las finalidades y los destinatar
 ios en un informe técnico.\nObjetivos específicos:1. Analizar la audiencia
  meta\, sus características y las adecuaciones correspondientes según la s
 ituación comunicativa.2. Reconocer las características del informe técnico
 : tipos\, partes y funciones.3. Redactar objetivos claros\, medibles\, rea
 lizables y concisos.4. Conocer las normas textuales de coherencia\, cohesi
 ón\, informatividad y situacionalidad\, y la importancia de usarla en favo
 r de la comunicación eficaz.5. Segmentar las ideas en párrafos y con la ay
 uda de la puntuación adecuada.6. Utilizar los conectores discursivos como 
 indicadores de la intención comunicativa del autor y como guías que facili
 ten la interpretación de las ideas expuestas.7. Manipular el léxico en res
 puesta a su mayor o menor informatividad y adecuación a los propósitos com
 unicativos.8. Practicar estrategias específicas para evitar los errores má
 s comunes en la escritura.\nDescripción y contenidos:\nEs común que\, en e
 l ámbito laboral\, se nos exija redactar documentos técnicos\, pero no nec
 esariamente nos han enseñado cómo hacerlo. De ahí que se hallen grandes fa
 lencias en este tipo de documentos.\nPor lo tanto\, se propone un taller d
 e técnicas para el desarrollo de la conciencia comunicativa dirigido a no 
 especialistas\, con respecto a las estrategias de producción textual más e
 fectivas y con los siguientes contenidos teóricos de base:1. La eficacia c
 omunicativa y las adecuaciones según la audiencia.2. Las características d
 el informe técnico: tipos de informes\, partes\, funciones.3. La redacción
  clara y coherente de objetivos en un informe técnico.4. Las normas textua
 les de coherencia\, cohesión\, informatividad y situacionalidad (selección
  de información pertinente y su procesamiento).5. La segmentación de ideas
  gracias al párrafo y a la puntuación adecuada.6. La conexión de las ideas
  a través de los conectores o marcadores del discurso.7. La variedad y pre
 cisión léxica.8. Los errores comunes en redacción y cómo evitarlos.\nAudie
 ncia: Este curso está dirigido a mandos altos\, medios y a todo aquel cuyo
  quehacer diario implique una comunicación escrita profesional a través de
  informes técnicos\, cartas\, oficios\, correos electrónicos\, actas\, pro
 puestas de servicios\, etc.\nFacilitadora:Karla Ramos es filóloga y magist
 ra en lingüista graduada de la Universidad de Costa Rica en el 2015. Cuent
 a con amplia experiencia en didáctica de lenguas. Es\, además\, empresaria
  desde sus 23 años. Como filóloga suele hacer corrección de estilo de tesi
 s\, de artículos académicos y de documentos empresariales. Gracias a su ex
 periencia en el mundo empresarial y en el mundo de las letras\, Karla ha c
 onstatado la oportunidad de impartir cursos de redacción moderna para prof
 esionales\, con el fin de que las personas se empoderen\, logren sus metas
  profesionales y comuniquen de manera más confiable\, efectiva y precisa e
 n sus escritos diarios.\nSus cursos de redacción son reconocidos por ser a
 bordados desde una perspectiva de la lingüística textual y no desde la gra
 mática normativa. Esto los hace únicos en el país. Sus cursos han llegado 
 a empresas privadas como Metalco\, Grupo Q\, CIDI\, Cámara de Comercio\, C
 ámara de Industrias\, e instituciones públicas de Costa Rica como el INS\,
  el MEP\, la Asamblea Legislativa y la Imprenta Nacional.\nKarla cuenta co
 n experiencia en la enseñanza virtual desde 2010 en que inició a impartir 
 clases de francés a niños cuando tuvo su centro de enseñanza de idiomas pa
 ra niños Global Kids. En la actualidad\, además de las clases virtuales de
  francés para niños y adultos\, también se suman los cursos de redacción q
 ue imparte con la Cámara de Comercio de Costa Rica.\nTodas nuestras capaci
 taciones pueden ser impartidas en su organización\nInscripciones a info@ce
 deso.co.crTel: +506 2225-1007Whatsapp: +506 6063-9111Visite nuestra página
  www.cedeso.co.crfacebook.com/cedesocostarica
DTSTART:20230822T160000Z
DTEND:20230912T180000Z
GEO:00;0
LOCATION:Virtual por Zoom.
ORGANIZER;CN=:info@cedeso.co.cr
SEQUENCE:1
SUMMARY:Redacción de informes técnicos
TRANSP:OPAQUE
URL:https://cedeso.co.cr/eventos-anteriores/736-redacci%C3%B3n-de-informes-
 t%C3%A9cnicos-2
END:VEVENT
END:VCALENDAR
