BEGIN:VCALENDAR
VERSION:2.0
PRODID:-//Cedeso//NONSGML kigkonsult.se iCalcreator 2.30.10//
CALSCALE:GREGORIAN
METHOD:PUBLISH
UID:2201119f-6d9b-4a83-80e7-bd7525a1f344
X-WR-CALNAME:iCagenda
X-WR-CALDESC:Event Management Extension for Joomla!
X-WR-RELCALID:3E26604A-50F4-4449-8B3E-E4F4932D05B5
X-WR-TIMEZONE:America/Costa_Rica
BEGIN:VTIMEZONE
TZID:America/Costa_Rica
BEGIN:STANDARD
TZNAME:CST
DTSTART:20211211T060000
TZOFFSETFROM:+0000
TZOFFSETTO:-0600
END:STANDARD
END:VTIMEZONE
BEGIN:VEVENT
UID:9680fc0b-744c-448c-909e-a0813408480f
DTSTAMP:20260419T160908Z
CATEGORIES:Mejores Prácticas Organizacionales
CLASS:PUBLIC
DESCRIPTION;ALTREP="CID:<FFFF__=0ABBE548DFE235B58f9e8a93d@coffeebean.com>":
 Seminario:\nActualización Ley General de Contratación Pública 9986\nFecha:
  12 de setiembre del 2023.Horario: 8:30 a.m. a 12:30 m.d.Duración total: 4
  horas.Plataforma: Zoom.Inversión: ¢40.000 + 2% de IVA por participante.In
 cluye: Material y certificado en PDF.\nDirigido a:Proveedores del estado q
 ue requieren actualizarse a la nueva Ley de Contratación Pública.\nObjetiv
 o:Actualizar los conocimientos sobre la nueva Ley de Contratación Pública 
 de manera que el participante sea capaz de comprender y aplicarlos de mane
 ra efectiva en los diferentes procedimientos de licitación.\nContenidos:• 
 Antecedentes y escenario actual• Principales cambios e innovaciones en el 
 proceso• Sistema digital unificado y simplificación de excepciones• Empode
 ramiento a la Administración• Nuevos tipos de procedimientos• Modificación
  al régimen recursivo – nuevo recurso temerario• Prohibiciones• Régimen sa
 ncionatorio• Contratación pública estratégica• Criterios sociales para apo
 yar PYMES• Gestión Sostenible• Figuras de nueva adjudicación• Plazos de pr
 escripción\nFacilitador: Ing. Carlos Rodríguez Rojas. Más de 20 años de ex
 periencia en compras públicas.\nTodas nuestras capacitaciones pueden ser i
 mpartidas en su organización\nInscripciones a: info@cedeso.co.crTel: +506 
 2225-1007 Whatsapp: +506 6063-9111Visite nuestra página www.cedeso.co.crfa
 cebook.com/cedesocostarica
DTSTART:20230912T143000Z
DTEND:20230912T183000Z
GEO:00;0
LOCATION:Virtual por Zoom
ORGANIZER;CN=:info@cedeso.co.cr
SEQUENCE:1
SUMMARY:Actualización Ley General de Contratación Pública 9986
TRANSP:OPAQUE
URL:https://cedeso.co.cr/eventos-anteriores/739-actualizaci%C3%B3n-ley-gene
 ral-de-contrataci%C3%B3n-p%C3%BAblica-9986
END:VEVENT
END:VCALENDAR
