BEGIN:VCALENDAR
VERSION:2.0
PRODID:-//Cedeso//NONSGML kigkonsult.se iCalcreator 2.30.10//
CALSCALE:GREGORIAN
METHOD:PUBLISH
UID:cb25eac6-6a87-4024-ba5b-01931495f917
X-WR-CALNAME:iCagenda
X-WR-CALDESC:Event Management Extension for Joomla!
X-WR-RELCALID:3E26604A-50F4-4449-8B3E-E4F4932D05B5
X-WR-TIMEZONE:America/Costa_Rica
BEGIN:VTIMEZONE
TZID:America/Costa_Rica
BEGIN:STANDARD
TZNAME:CST
DTSTART:20220122T060000
TZOFFSETFROM:+0000
TZOFFSETTO:-0600
END:STANDARD
END:VTIMEZONE
BEGIN:VEVENT
UID:79cdb577-264e-4a8c-a535-e8840046b71b
DTSTAMP:20260419T160730Z
CATEGORIES:Mejores Prácticas Organizacionales
CLASS:PUBLIC
DESCRIPTION;ALTREP="CID:<FFFF__=0ABBE548DFE235B58f9e8a93d@coffeebean.com>":
 Taller:\n¡Tic! ¡Tac! Manejo del tiempo\nFecha: 24 y 31 de octubre del 2023
 Horario: 8:30 a.m. a 12:00 m.d.Duración: 7 horas.Plataforma: Zoom.Inversió
 n: ¢95.000 + 2% de IVA por participante.Incluye: Material didáctico y cert
 ificado de participación en PDF.\nMotivación: en un mundo de colaboración\
 , trabajo remoto y equipos ágiles\, es esencial conocer las herramientas p
 ara aprovechar el tiempo al máximo.\nObjetivos: las y los participantes po
 drán explicar\, aplicar y apreciar comportamientos y herramientas asociado
 s con el manejo de prioridades\, la ejecución con agilidad y los procesos 
 con sentido de urgencia.\nContenidos:1.El manejo de las Prioridades: • Tra
 mpas y problemas culturales que se “comen el tiempo” (distractores\, ganan
 cias secundarias y cómo frenarlos). • Ciencia de prioridades: lo urgente y
  lo importante son cosas diferentes. • Matriz de prioridades “1-3-9” y 7 e
 strategias para aprovechar el tiempo (reuniones ágiles\, manejo de distrac
 tores\, freno asertivo\, etc.). • Kanban y agilismo cuando perder el tiemp
 o es un tema sistémico. 2.El Sentido de Urgencia (SU):  • Acción precisa y
  libre de errores: 4 dimensiones del Sentido de Urgencia. • Los comportami
 entos en pro y contra del cumplimiento de promesas\, agilidad\, tenacidad 
 y manejo de prioridades.  • Aplicación de herramienta de Autoevaluación de
 l SU.3.¡No pierda el tiempo! (La ciencia de la ejecución) • Falta de clari
 dad y de disciplina: siete obstáculos que empujan al fracaso en la ejecuci
 ón (¡Y qué hacer al respecto!). • Tres expectativas a tener claras para as
 egurar la ejecución ágil de las tareas\, procesos y proyectos. • Liderazgo
  en la ejecución: guías para la acción y comportamientos pro y contra de p
 roducir resultados\, sincronizar y alinear.\nFacilitador: Dr. Enrique Marg
 ery- Doctor en Educación y TEDx speaker.- Profesor invitado de la Universi
 dad de Querétaro (UAQ\, México) y la Universidad UAGM (Puerto Rico).- Dise
 ña capacitación para desarrollo de soft skills basado en aprendizaje por l
 a experiencia\, GBL y “reto-aprendizaje”.- Coach especialista en ciencia d
 e la colaboración y manejo de top performers.- Diseña herramientas para me
 dir el Sentido de Urgencia\, el “termómetro de la colaboración” y la renta
 bilidad de la capacitación\, entre otros.- Autor de los libros “Complejida
 d y Competencias”\, “Herramientas de Coaching”\, “El Viaje” (Editorial Nor
 ma\; uno de los primeros libros de psicología positiva publicados) y 'Bája
 te de la escalera'.\nTodas nuestras capacitaciones pueden ser impartidas e
 n su organización\nInscripciones a info@cedeso.co.crTel: +506 2225-1007 Wh
 atsapp: +506 6063-9111Visite nuestra página www.cedeso.co.crfacebook.com/c
 edesocostarica
DTSTART:20231024T143000Z
DTEND:20231031T180000Z
GEO:00;0
LOCATION:Virtual por Zoom
ORGANIZER;CN=:info@cedeso.co.cr
SEQUENCE:1
SUMMARY:¡Tic! ¡Tac! Manejo del tiempo
TRANSP:OPAQUE
URL:https://cedeso.co.cr/eventos-anteriores/744-%C2%A1tic-%C2%A1tac-manejo-
 del-tiempo
END:VEVENT
END:VCALENDAR
