BEGIN:VCALENDAR
VERSION:2.0
PRODID:-//Cedeso//NONSGML kigkonsult.se iCalcreator 2.30.10//
CALSCALE:GREGORIAN
METHOD:PUBLISH
UID:ad909dae-d560-44c3-98cd-ca89330dd35b
X-WR-CALNAME:iCagenda
X-WR-CALDESC:Event Management Extension for Joomla!
X-WR-RELCALID:3E26604A-50F4-4449-8B3E-E4F4932D05B5
X-WR-TIMEZONE:America/Costa_Rica
BEGIN:VTIMEZONE
TZID:America/Costa_Rica
BEGIN:STANDARD
TZNAME:CST
DTSTART:20211127T060000
TZOFFSETFROM:+0000
TZOFFSETTO:-0600
END:STANDARD
END:VTIMEZONE
BEGIN:VEVENT
UID:37656b18-6974-4e3a-94b0-d0dc3d125759
DTSTAMP:20260419T160133Z
CATEGORIES:Operaciones
CLASS:PUBLIC
DESCRIPTION;ALTREP="CID:<FFFF__=0ABBE548DFE235B58f9e8a93d@coffeebean.com>":
 Seminario:\nABC del mantenimiento\nFecha: 29\, 30 y 31 de agosto del 2023.
 Horario: 8:30 a.m. a 12:30 m.d.Duración total: 12 horas.Plataforma: Zoom.I
 nversión: ¢95.000 + 2% de IVA por participante.Incluye: Material y certifi
 cado en versión digital.Facilitador: Ing. Sergio Padilla\nObjetivo general
 :Contribuir al mejoramiento/ fortalecimiento de las actividades de gestión
  y labores operativas del mantenimiento que se le han de realizar a los eq
 uipos e instalaciones\, mediante el uso adecuado de los conceptos y las he
 rramientas\, en los tipos de mantenimiento a fin de mejorar la disponibili
 dad y efectividad de los equipos o líneas de producción que tengan a su ca
 rgo\; a su vez aportar el apoyo técnico y documental al desarrollo eficien
 te y eficaz de las labores de mantenimiento en concordancia con la visión\
 , políticas\, lineamientos estratégicos\, planes y programas de la organiz
 ación.\nObjetivos específicos:• Adquirir conocimientos para desarrollo con
 ductual\, en base a principios éticos y de imagen\, velando por su segurid
 ad y la de su equipo de trabajo.• Adquirir conocimientos técnicos asociado
 s a la gestión de mantenimiento. • Principios básicos y formas de mantenim
 iento como tecnología usadas. • Conocer fundamentos técnicos y procedimien
 tos para realizar acciones de mantenimiento programado\, bajo condiciones 
 de operación de equipos e instalaciones.• Fortalecer metodologías de mante
 nimiento\, para evaluar su ejecución. • Conocer tipos de mantenimiento y a
 plicaciones en la conservación de equipos e instalaciones de un sistema pr
 oductivo.\nContenidos:• Introducción al ABC del mantenimiento.• Qué es man
 tenimiento - Qué es el mantenimiento y sus funciones. - Filosofía del mant
 enimiento• Identificación de las tareas correctivas\, preventivas y predic
 tivas.• Diferentes eslabones de mantenimiento.• Reparación en sitio contra
  reemplazo en parada.• Métodos para conocer si se cumplió la vida útil de 
 un activo curva de la bañera.• Métodos de planificación.• Planificación es
 tratégica.• Programa de mantenimiento.• Implementación del plan\, principi
 os de control gestión de mantenimiento.• Control de gestión del mantenimie
 nto\, tablero de control de mandos\, indicadores claves de rendimiento.• E
 valuación de la actividad de mantenimiento.\nFacilitador: Ing. Sergio Padi
 llaIngeniero Industrial con perfil multidisciplinario y trayectoria profes
 ional en la Industria Petrolera y el ejercicio independiente de la ingenie
 ría en la industria manufacturera.\nTodas nuestras capacitaciones pueden s
 er impartidas en su organización\nInscripciones a: info@cedeso.co.crTel: +
 506 2225-1007 Whatsapp: +506 6063-9111Visite nuestra página www.cedeso.co.
 crfacebook.com/cedesocostarica
DTSTART:20230829T143000Z
DTEND:20230831T183000Z
GEO:00;0
LOCATION:Virtual por Zoom
ORGANIZER;CN=:info@cedeso.co.cr
SEQUENCE:1
SUMMARY:ABC del mantenimiento
TRANSP:OPAQUE
URL:https://cedeso.co.cr/eventos-anteriores/745-abc-del-mantenimiento
END:VEVENT
END:VCALENDAR
