BEGIN:VCALENDAR
VERSION:2.0
PRODID:-//Cedeso//NONSGML kigkonsult.se iCalcreator 2.30.10//
CALSCALE:GREGORIAN
METHOD:PUBLISH
UID:5a41f688-32d6-4d1e-81b3-40b21b4f1d93
X-WR-CALNAME:iCagenda
X-WR-CALDESC:Event Management Extension for Joomla!
X-WR-RELCALID:3E26604A-50F4-4449-8B3E-E4F4932D05B5
X-WR-TIMEZONE:America/Costa_Rica
BEGIN:VTIMEZONE
TZID:America/Costa_Rica
BEGIN:STANDARD
TZNAME:CST
DTSTART:20211231T060000
TZOFFSETFROM:+0000
TZOFFSETTO:-0600
END:STANDARD
END:VTIMEZONE
BEGIN:VEVENT
UID:39536ea2-8a84-49df-8997-9307c0e12181
DTSTAMP:20260419T143048Z
CATEGORIES:Operaciones
CLASS:PUBLIC
DESCRIPTION;ALTREP="CID:<FFFF__=0ABBE548DFE235B58f9e8a93d@coffeebean.com>":
 Taller:\n¿Cómo analizar la estructura de costos de una importación para to
 mar decisiones estratégicas?\n \nObjetivo: Brindar un apoyo integral a la 
 empresa y/o institución\, con el fin de lograr la eficiencia y optimizar s
 us operaciones de importación\, proporcionando los conocimientos y ayuda n
 ecesaria para afrontar de forma exitosa el proceso\, bajo un marco prevent
 ivo que le garantice maximizar sus costos operativos a fin de impactar pos
 itivamente el desarrollo de sus operaciones aduaneras.\nFecha: 2 y 4 de oc
 tubre del 2023.Horario: 8:30 a.m. a 12:30 a.m.Duración: 8 horas.Plataforma
 : Zoom.Inversión: ¢75.000 + 2% de IVA por participante.Incluye: Material d
 idáctico y certificado de participación en PDF.\nContenido temático:\n1. G
 eneralidades de una importación:• ¿Qué es una importación?• Proceso logíst
 ico para importar una mercancía.• Proceso de importación.\n2. Análisis de 
 la estructura de costos de importación.• Análisis de ofertas de proveedore
 s internacionales y cálculos previos a la importación. • Análisis y cálcul
 o de los costos de trasporte internacional.• Tips para comprensión\, análi
 sis y comparación de tarifas de transporte.• Análisis y cálculo de los cos
 tos de consolidación de carga.• Cálculo de impuestos.• Cálculo de impuesto
 s con la aplicación de los Tratados de Libre Comercio.• Costos de nacional
 ización y trámites locales.• Seguros• Casos prácticos.\nFacilitadora: Licd
 a. Yorleny Jiménez RojasGraduada con honores de la Universidad de Costa Ri
 ca en la carrera de Administración Aduanera y Comercio Exterior. Certifica
 da como especialista en Supply Chain de la Universidad de Nebrija en Españ
 a.Actualmente consultora independiente con 20 años de experiencia en manej
 o y desarrollo de procesos de internacionalización y logística especialmen
 te para el sector agrícola.Especialista en desarrollo de acompañamientos e
 mpresariales en temas de importación\, exportación\, logística internacion
 al\, entre otros.Profesora de la Universidad de Costa Rica\, Universidad F
 UNDEPOS y capacitadora activa en diferentes Cámaras que agremia exportador
 es\, importadores\, empresas PYMES\, entidades estatales\, colegios profes
 ionales\, entre otros.\nTodas nuestras capacitaciones pueden ser impartida
 s en su organización\nInscripciones a: info@cedeso.co.crTel: +506 2225-100
 7 Whatsapp: +506 6063-9111Visite nuestra página www.cedeso.co.crfacebook.c
 om/cedesocostarica
DTSTART:20231002T143000Z
DTEND:20231004T183000Z
GEO:00;0
LOCATION:Virtual por Zoom
ORGANIZER;CN=:info@cedeso.co.cr
SEQUENCE:1
SUMMARY:¿Cómo analizar la estructura de costos de una importación para toma
 r decisiones estratégicas?
TRANSP:OPAQUE
URL:https://cedeso.co.cr/eventos-anteriores/750-%C2%BFc%C3%B3mo-analizar-la
 -estructura-de-costos-de-una-importaci%C3%B3n-para-tomar-decisiones-estrat
 %C3%A9gicas
END:VEVENT
END:VCALENDAR
