BEGIN:VCALENDAR
VERSION:2.0
PRODID:-//Cedeso//NONSGML kigkonsult.se iCalcreator 2.30.10//
CALSCALE:GREGORIAN
METHOD:PUBLISH
UID:cd17cc7e-d59c-4a55-a87b-921b4714a583
X-WR-CALNAME:iCagenda
X-WR-CALDESC:Event Management Extension for Joomla!
X-WR-RELCALID:3E26604A-50F4-4449-8B3E-E4F4932D05B5
X-WR-TIMEZONE:America/Costa_Rica
BEGIN:VTIMEZONE
TZID:America/Costa_Rica
BEGIN:STANDARD
TZNAME:CST
DTSTART:20220204T060000
TZOFFSETFROM:+0000
TZOFFSETTO:-0600
END:STANDARD
END:VTIMEZONE
BEGIN:VEVENT
UID:182e0dfe-9e16-4f11-a539-8c3af9a7a77a
DTSTAMP:20260419T142948Z
CATEGORIES:Operaciones
CLASS:PUBLIC
DESCRIPTION;ALTREP="CID:<FFFF__=0ABBE548DFE235B58f9e8a93d@coffeebean.com>":
 Taller:\nDiagnostique su proceso de importación y evite riesgos fiscales\n
 Fecha: 6 y 7 de noviembre del 2023.Horario: 8:30 a.m. a 11:30 m.d.Duración
 : 6 horas.Plataforma: Zoom.Inversión: ¢55.000 + 2% de IVA por participante
 .Incluye: Material didáctico y certificado de participación en PDF.Facilit
 adora: Licda. Yorleny Jiménez.\nObjetivo: Aportar conocimientos a la empre
 sa importadora a fin de que puedan conocer los aspectos claves del proceso
  de fiscalización que aplica la autoridad aduanera en materia de importaci
 ones\, para esta manera puedan garantizar el cumplimiento del marco jurídi
 co aduanero existente y evitar sanciones y multas.\nContenido temático:• A
 uxiliares de la función pública aduanera y sus responsabilidades y obligac
 iones.• Tipos de control que ejerce la aduana. • Documentos aduaneros nece
 sarios para respaldar DUA.• Importancia del análisis de contratos de compr
 aventa internacional.• Análisis del cumplimiento de requisitos no arancela
 rios.• La negociación de los INCOTERM y su impacto en el cálculo de impues
 tos.• Clasificación arancelaria y su repercusión en el cálculo de impuesto
 s.• Análisis del Valor Aduanero como eje principal del cálculo de impuesto
 s.• Análisis del Origen de las mercancías (uso correcto de los certificado
 s de origen).• Delitos aduaneros\, infracciones administrativas y tributar
 ias.• Sistema Tic@\nFacilitadora: Licda. Yorleny Jiménez RojasGraduada con
  honores de la Universidad de Costa Rica en la carrera de Administración A
 duanera y Comercio Exterior. Certificada como especialista en Supply Chain
  de la Universidad de Nebrija en España.Actualmente consultora independien
 te con 20 años de experiencia en manejo y desarrollo de procesos de intern
 acionalización y logística especialmente para el sector agrícola.Especiali
 sta en desarrollo de acompañamientos empresariales en temas de importación
 \, exportación\, logística internacional\, entre otros.Profesora de la Uni
 versidad de Costa Rica\, Universidad FUNDEPOS y capacitadora activa en dif
 erentes Cámaras que agremia exportadores\, importadores\, empresas PYMES\,
  entidades estatales\, colegios profesionales\, entre otros.\nTodas nuestr
 as capacitaciones pueden ser impartidas en su organización\nInscripciones 
 a: info@cedeso.co.crTel: +506 2225-1007 Whatsapp: +506 6063-9111Visite nue
 stra página www.cedeso.co.crfacebook.com/cedesocostarica
DTSTART:20231106T143000Z
DTEND:20231107T173000Z
GEO:00;0
LOCATION:Virtual por Zoom
ORGANIZER;CN=:info@cedeso.co.cr
SEQUENCE:1
SUMMARY:Diagnostique su proceso de importación y evite riesgos fiscales
TRANSP:OPAQUE
URL:https://cedeso.co.cr/eventos-anteriores/751-diagnostique-su-proceso-de-
 importaci%C3%B3n-y-evite-riesgos-fiscales
END:VEVENT
END:VCALENDAR
