BEGIN:VCALENDAR
VERSION:2.0
PRODID:-//Cedeso//NONSGML kigkonsult.se iCalcreator 2.30.10//
CALSCALE:GREGORIAN
METHOD:PUBLISH
UID:bcfbd3d5-0848-4136-b79b-6acca2ae30c5
X-WR-CALNAME:iCagenda
X-WR-CALDESC:Event Management Extension for Joomla!
X-WR-RELCALID:3E26604A-50F4-4449-8B3E-E4F4932D05B5
X-WR-TIMEZONE:America/Costa_Rica
BEGIN:VTIMEZONE
TZID:America/Costa_Rica
BEGIN:STANDARD
TZNAME:CST
DTSTART:20211220T060000
TZOFFSETFROM:+0000
TZOFFSETTO:-0600
END:STANDARD
END:VTIMEZONE
BEGIN:VEVENT
UID:03487ee2-e010-4481-be6a-5242e7237a46
DTSTAMP:20260419T142629Z
CATEGORIES:Mejores Prácticas Organizacionales
CLASS:PUBLIC
DESCRIPTION;ALTREP="CID:<FFFF__=0ABBE548DFE235B58f9e8a93d@coffeebean.com>":
 Taller:\nCómo realizar onboardings e inducciones efectivas\nFecha: 21 y 22
  de setiembre del 2023.Horario: 8:30 a.m. a 11:30 a.m.Duración: 6 horas.Me
 todología: Virtual. Plataforma: Zoom.Inversión: ¢90.000 + 2% de IVA por pa
 rticipante. Incluye: Material y certificado de participación en PDF.Facili
 tador: Lic. Carlos Solera.\nDirigido a Gestores del Talento responsables d
 el onboardingEspecialistas\, técnicos o asistentes de la capacitación\, pa
 rticipantes en el onboarding.\nObjetivoComo diseñar y gestionar un program
 a de onboarding incluyendo la inducción para que los nuevos colaboradores 
 sean competentes y\, se integren a sus equipos y a la cultura de la organi
 zación.\nContenidos• La incorporación de los colaboradores\, lo que suele 
 significar.• Relación entre reclutamiento y selección y el onboarding.• Re
 tos que enfrentan el colaborador y la empresa.• Reinventando la incorporac
 ión.• Componentes de diseño de un programa de onboarding.• Fases del proce
 so de onboarding.• Cuál es el paso más crítico.• La importancia de reconoc
 er la cultura y valores de la organización.• Características de un onboard
 ing exitoso.• Ejemplos de organizaciones líderes con onboardings exitosos.
 • Ejemplos de programas para diferentes niveles de puestos.\nFacilitador: 
 Lic. Carlos Solera Umaña Licenciado en administración de negocios\, certif
 icado en Compensación y Beneficios y en Competencias\, técnico en seguros.
  Más de 30 años de experiencia en todos los subprocesos de Gestión de RRHH
 . Amplia experiencia en organizaciones de manufactura\, servicios\, cooper
 ativas y ONG’s. Actual fundador y director de CEDESO.S.A.\nTodas nuestras 
 capacitaciones pueden ser impartidas en su organización\nInscripciones a: 
 info@cedeso.co.crTel: +506 2225-1007 Whatsapp: +506 6063-9111Visite nuestr
 a página www.cedeso.co.crfacebook.com/cedesocostarica\n 
DTSTART:20230921T143000Z
DTEND:20230922T173000Z
GEO:00;0
LOCATION:Virtual por Zoom
ORGANIZER;CN=:info@cedeso.co.cr
SEQUENCE:1
SUMMARY:Cómo realizar onboardings e inducciones efectivas
TRANSP:OPAQUE
URL:https://cedeso.co.cr/eventos-anteriores/752-c%C3%B3mo-realizar-onboardi
 ngs-e-inducciones-efectivas
END:VEVENT
END:VCALENDAR
