BEGIN:VCALENDAR
VERSION:2.0
PRODID:-//Cedeso//NONSGML kigkonsult.se iCalcreator 2.30.10//
CALSCALE:GREGORIAN
METHOD:PUBLISH
UID:ffafa106-1329-42c4-87f2-1c5536699b18
X-WR-CALNAME:iCagenda
X-WR-CALDESC:Event Management Extension for Joomla!
X-WR-RELCALID:3E26604A-50F4-4449-8B3E-E4F4932D05B5
X-WR-TIMEZONE:America/Costa_Rica
BEGIN:VTIMEZONE
TZID:America/Costa_Rica
BEGIN:STANDARD
TZNAME:CST
DTSTART:20220109T060000
TZOFFSETFROM:+0000
TZOFFSETTO:-0600
END:STANDARD
END:VTIMEZONE
BEGIN:VEVENT
UID:4c67317d-1d3d-42db-b671-3c27225020f3
DTSTAMP:20260419T142431Z
CATEGORIES:Mejores Prácticas Organizacionales
CLASS:PUBLIC
DESCRIPTION;ALTREP="CID:<FFFF__=0ABBE548DFE235B58f9e8a93d@coffeebean.com>":
 Taller\nDNC y plan de capacitación\nSe entregarán formatos de gran utilida
 d\nFecha: 11 y 12 de octubre del 2023.Horario: 8:30 a.m. a 12:00 m.d.Durac
 ión: 7 horas.Plataforma: Zoom.Inversión: ¢95.000 + 2% de IVA por participa
 nte.Incluye: Material y certificado de participación en versión digital.Fa
 cilitador: Lic. Carlos Solera\nDirigido a: Gerentes\, jefes y encargados d
 e capacitación y desarrollo.Técnicos y especialistas involucrados en el pr
 oceso de capacitación y desarrollo.Interesados en actualizarse en capacita
 ción y desarrollo del personal.\nContenidos:1. Las tendencias actuales en 
 la gestión de la capacitación y desarrollo. Aprendizaje en línea\, micro a
 prendizaje\, gamificación\, habilidades blandas\, aprendizaje continuo y o
 tras. 2. El primer paso: definir claramente los objetivos generales y espe
 cíficos.3. Meta y beta competencias como desarrollarlas.4. Determinar las 
 actividades\, puestos o temáticas del diagnóstico.5. Recolección de datos:
  datos de desempeño\, métricas e informes\, encuestas y entrevistas\, obse
 rvación y análisis de procesos.6. Análisis de datos: identificación de pat
 rones de tendencias\, comparar estándares.7. Identificación de causa raíz:
  entrevistas\, análisis de procesos\, entrevista a los líderes.8. Prioriza
 r las necesidades de mejora de acuerdo con el impacto en los objetivos9. D
 esarrollo de estrategias de mejora: Diseño de programas de capacitación y 
 desarrollo específicos: Objetivos\, modos de entrega\, contenidos\, cronog
 rama\, recursos.10. Implementación y seguimiento: implementación y medicio
 nes continuas11. Desarrollo de fuentes internas y el mejor uso de fuentes 
 externas.12. Reevaluación: revisar los datos y la efectividad\, realizar a
 justes para mejorar el desempeño.\nFacilitador: Lic. Carlos Solera Umaña P
 rofesional con más de 30 años de experiencia en la gestión del talento.Cer
 tificado en Gestión por Competencias y Compensación. Experiencia en varied
 ad de industrias y en Centroamérica.\nTodas nuestras capacitaciones pueden
  ser impartidas en su organización\nInscripciones a: info@cedeso.co.crTel:
  +506 2225-1007 Whatsapp: +506 6063-9111Visite nuestra página www.cedeso.c
 o.crfacebook.com/cedesocostarica
DTSTART:20231011T143000Z
DTEND:20231012T180000Z
GEO:00;0
LOCATION:Virtual por Zoom
ORGANIZER;CN=:info@cedeso.co.cr
SEQUENCE:1
SUMMARY:DNC y plan de capacitación
TRANSP:OPAQUE
URL:https://cedeso.co.cr/eventos-anteriores/756-dnc-y-plan-de-capacitaci%C3
 %B3n
END:VEVENT
END:VCALENDAR
