BEGIN:VCALENDAR
VERSION:2.0
PRODID:-//Cedeso//NONSGML kigkonsult.se iCalcreator 2.30.10//
CALSCALE:GREGORIAN
METHOD:PUBLISH
UID:c1e4e451-b586-430c-93a0-bad4f3002e73
X-WR-CALNAME:iCagenda
X-WR-CALDESC:Event Management Extension for Joomla!
X-WR-RELCALID:3E26604A-50F4-4449-8B3E-E4F4932D05B5
X-WR-TIMEZONE:America/Costa_Rica
BEGIN:VTIMEZONE
TZID:America/Costa_Rica
BEGIN:STANDARD
TZNAME:CST
DTSTART:20220103T060000
TZOFFSETFROM:+0000
TZOFFSETTO:-0600
END:STANDARD
END:VTIMEZONE
BEGIN:VEVENT
UID:6b016d7b-e602-4fd7-9979-8e550b4ca5b3
DTSTAMP:20260419T142452Z
CATEGORIES:Mejores Prácticas Organizacionales
CLASS:PUBLIC
DESCRIPTION;ALTREP="CID:<FFFF__=0ABBE548DFE235B58f9e8a93d@coffeebean.com>":
 Taller:\n¡Dar buen feedback!\nFecha: 5 de octubre del 2023.Horario: 8:30 a
 .m. a 12:30 m.d.Duración: 4 horas.Plataforma: Zoom.Inversión: ¢65.000 + 2%
  de IVA por participante.Incluye: Material didáctico y certificado de part
 icipación en versión digital.\nMotivación al taller: la retroalimentación 
 es tan clave en el desempeño que debe ser realizada aplicando las mejores 
 prácticas.\nObjetivos: explicar\, aplicar y apreciar las herramientas asoc
 iadas con dar una retroalimentación efectiva a los colaboradores.\nConteni
 dos:● La retroalimentación dentro del ciclo completo de la gerencia del de
 sempeño (alinear\, acompañar\, evaluar y retroalimentar el desempeño).● La
  mala retroalimentación: juegos transaccionales entre evaluador y evaluado
  que cierran el proceso (y cómo evitarlos).● Mejores prácticas en el manej
 o de sesiones 1:1.● Modelos SIP y SEP en comunicación asertiva Ejercicio d
 e autaplicación y diseño SEP para dos colaboradores.● Once mejores práctic
 as de feedback clásico y de feedback apreciativo.● La retroalimentación co
 mo un proceso: el trabajo de automonitoreo y autodirección de los colabora
 dores.\nPluses\; Entre los asistentes de sorteará una copia del libro de m
 anagement “Actuar para pensar” y una copia del libro “Herramientas de Coac
 hing” del instructor.\nFacilitador: Dr. Enrique Margery- Doctor en Educaci
 ón y TEDx speaker.- Profesor invitado de la Universidad de Querétaro (UAQ\
 , México) y la Universidad UAGM (Puerto Rico).- Diseña capacitación para d
 esarrollo de soft skills basado en aprendizaje por la experiencia\, GBL y 
 “reto-aprendizaje”.- Coach especialista en ciencia de la colaboración y ma
 nejo de top performers.- Diseña herramientas para medir el Sentido de Urge
 ncia\, el “termómetro de la colaboración” y la rentabilidad de la capacita
 ción\, entre otros.- Autor de los libros “Complejidad y Competencias”\, “H
 erramientas de Coaching”\, “El Viaje” (Editorial Norma\; uno de los primer
 os libros de psicología positiva publicados) y 'Bájate de la escalera'.\nT
 odas nuestras capacitaciones pueden ser impartidas en su organización\nIns
 cripciones a info@cedeso.co.crTel: +506 2225-1007 Whatsapp: +506 6063-9111
 Visite nuestra página www.cedeso.co.crfacebook.com/cedesocostarica
DTSTART:20231005T143000Z
DTEND:20231005T183000Z
GEO:00;0
LOCATION:Virtual por Zoom
ORGANIZER;CN=:info@cedeso.co.cr
SEQUENCE:1
SUMMARY:¡Dar buen feedback!
TRANSP:OPAQUE
URL:https://cedeso.co.cr/eventos-anteriores/757-%C2%A1dar-buen-feedback
END:VEVENT
END:VCALENDAR
