BEGIN:VCALENDAR
VERSION:2.0
PRODID:-//Cedeso//NONSGML kigkonsult.se iCalcreator 2.30.10//
CALSCALE:GREGORIAN
METHOD:PUBLISH
UID:bdefbd37-cb04-48ed-ba2a-bedf12e4fdac
X-WR-CALNAME:iCagenda
X-WR-CALDESC:Event Management Extension for Joomla!
X-WR-RELCALID:3E26604A-50F4-4449-8B3E-E4F4932D05B5
X-WR-TIMEZONE:America/Costa_Rica
BEGIN:VTIMEZONE
TZID:America/Costa_Rica
BEGIN:STANDARD
TZNAME:CST
DTSTART:20220117T060000
TZOFFSETFROM:+0000
TZOFFSETTO:-0600
END:STANDARD
END:VTIMEZONE
BEGIN:VEVENT
UID:fcda763c-b39b-47aa-ac9a-10c13ad00931
DTSTAMP:20260419T142429Z
CATEGORIES:Ventas
CLASS:PUBLIC
DESCRIPTION;ALTREP="CID:<FFFF__=0ABBE548DFE235B58f9e8a93d@coffeebean.com>":
 Taller:\nCoaching de equipos de venta\nPluses: entre los asistentes de sor
 teará una copia del libro de management “Actuar para pensar” y una copia d
 el libro “Herramientas de Coaching” del instructor.\nFecha: 19 de octubre 
 del 2023.Horario: 8:30 a.m. a 12:30 m.d.Duración: 4 horas.Plataforma: Zoom
 .Inversión: ¢65.000 + 2% de IVA por participante.Incluye: Material didácti
 co y certificado de participación en PDF.\nMotivación al taller: en un mun
 do de colaboración y equipos ágiles\, cada quien debe asumir sus responsab
 ilidades y pasar del discurso a la acción.\nObjetivos: explicar\, aplicar 
 y apreciar las herramientas para hacer performance coaching de vendedores 
 y equipos de ventas.\nContenidos:• Fundamentos del Coaching de Equipos de 
 Ventas. Psicología del top performer en ventas.• ¿Cómo hablan los equipos 
 de ventas de alto desempeño? (Acción apreciativa\, resiliencia y mentalida
 d de crecimiento). Coaching enfocado en reencuadre (adaptabilidad) e inter
 nalidad en vendedores.• Marcar la cancha: accountability\, seteo de expect
 ativas y principios de la ejecución en el equipo de ventas.• Aplicación Pr
 áctica del Coaching en Ventas. Identificación de fortalezas y áreas de mej
 ora de cada miembro del equipo. Establecimiento de metas SMAART-SALES y GR
 OW-SALES.\nFacilitador: Dr. Enrique Margery- Doctor en Educación y TEDx sp
 eaker.- Profesor invitado de la Universidad de Querétaro (UAQ\, México) y 
 la Universidad UAGM (Puerto Rico).- Diseña capacitación para desarrollo de
  soft skills basado en aprendizaje por la experiencia\, GBL y “reto-aprend
 izaje”.- Coach especialista en ciencia de la colaboración y manejo de top 
 performers.- Diseña herramientas para medir el Sentido de Urgencia\, el “t
 ermómetro de la colaboración” y la rentabilidad de la capacitación\, entre
  otros.- Autor de los libros “Complejidad y Competencias”\, “Herramientas 
 de Coaching”\, “El Viaje” (Editorial Norma\; uno de los primeros libros de
  psicología positiva publicados) y 'Bájate de la escalera'.\nTodas nuestra
 s capacitaciones pueden ser impartidas en su organización\nInscripciones a
  info@cedeso.co.crTel: +506 2225-1007 Whatsapp: +506 6063-9111Visite nuest
 ra página www.cedeso.co.crfacebook.com/cedesocostarica
DTSTART:20231019T143000Z
DTEND:20231019T183000Z
GEO:00;0
LOCATION:Virtual por Zoom
ORGANIZER;CN=:info@cedeso.co.cr
SEQUENCE:1
SUMMARY:Coaching de equipos de venta
TRANSP:OPAQUE
URL:https://cedeso.co.cr/eventos-anteriores/758-coaching-de-equipos-de-vent
 a
END:VEVENT
END:VCALENDAR
