BEGIN:VCALENDAR
VERSION:2.0
PRODID:-//Cedeso//NONSGML kigkonsult.se iCalcreator 2.30.10//
CALSCALE:GREGORIAN
METHOD:PUBLISH
UID:dc298908-f969-429b-a95e-595ff832956e
X-WR-CALNAME:iCagenda
X-WR-CALDESC:Event Management Extension for Joomla!
X-WR-RELCALID:3E26604A-50F4-4449-8B3E-E4F4932D05B5
X-WR-TIMEZONE:America/Costa_Rica
BEGIN:VTIMEZONE
TZID:America/Costa_Rica
BEGIN:STANDARD
TZNAME:CST
DTSTART:20220205T060000
TZOFFSETFROM:+0000
TZOFFSETTO:-0600
END:STANDARD
END:VTIMEZONE
BEGIN:VEVENT
UID:5e943048-0295-4b4b-a2f8-3efff2657f03
DTSTAMP:20260419T142522Z
CATEGORIES:Mejores Prácticas Organizacionales
CLASS:PUBLIC
DESCRIPTION;ALTREP="CID:<FFFF__=0ABBE548DFE235B58f9e8a93d@coffeebean.com>":
 Taller:\nHerramientas prácticas para capacitación\nAmplía tu impacto como 
 facilitador. Potencia la participación\, creatividad y aprendizaje en tus 
 sesiones de capacitación.Desatando la innovación: Estructuras liberadores 
 en capacitación.\nAprende cómo transformar de modo ágil y focalizado las c
 apacitaciones\, talleres y planificaciones\nFecha: 7\, 8\, 14 y 15 de novi
 embre del 2023.Horario: 8:30 a.m. a 11:00 a.m.Duración total: 10 horas.Pla
 taforma: Zoom.Inversión: ¢95.000 + 2% de IVA por participante.Incluye: Mat
 erial y certificado en versión digital.Facilitadoras: María José Zissu y S
 abrina Passarini\n¿Por qué tomar este taller?Porque vas a descubrir nuevas
  dinámicas y herramientas simples y de alto impacto para potenciar capacit
 aciones\, talleres y reuniones.\n¿A quién está dirigido?A especialistas en
  capacitación que buscan nuevas e innovadoras herramientas.\nObjetivos del
  taller:Conocer e integrar las Estructuras Liberadoras en la capacitación 
 para generar espacios poderosos de participación\, innovación y sinergia.
 \nContenidos:• ¿Qué son las Estructuras Liberadoras? Definición y principi
 os clave.• Creación de entornos seguros para la experimentación y la expre
 sión.• Repensar el propósito de tu quehacer como instructor/capacitador.• 
 Conocer y vivenciar diversas Estructuras Liberadoras.• Adaptar estructuras
  al contenido y objetivos de la capacitación.• Reconocer cuándo y cómo com
 binarlas para crear capacitaciones/talleres poderosos que incluyan a todos
 .• Práctica de Estructuras Liberadoras\, para aplicar de manera inmediata.
 \nExperiencia vivencial\nLista de recursos permanentes con tablero colabor
 ativo\nFacilitadoras:\nMaría José ZissuDPL. Universitaria en Recursos Huma
 nosDPL. Universitaria en Inteligencia EmocionalCoach OntológicaConsultora 
 en HR\nSabrina PassariniCoach OntológicaCoach EjecutivaFacilitadora en Est
 ructuras Liberadoras y LudicoachingConsulora en HR\nTodas nuestras capacit
 aciones pueden ser impartidas en su organización\nInscripciones a: info@ce
 deso.co.crTel: +506 2225-1007 Whatsapp: +506 6063-9111Visite nuestra págin
 a www.cedeso.co.crfacebook.com/cedesocostarica
DTSTART:20231107T143000Z
DTEND:20231115T170000Z
GEO:00;0
LOCATION:Virtual por Zoom
ORGANIZER;CN=:info@cedeso.co.cr
SEQUENCE:1
SUMMARY:Herramientas prácticas para capacitación
TRANSP:OPAQUE
URL:https://cedeso.co.cr/eventos-anteriores/759-herramientas-pr%C3%A1cticas
 -para-capacitaci%C3%B3n
END:VEVENT
END:VCALENDAR
