BEGIN:VCALENDAR
VERSION:2.0
PRODID:-//Cedeso//NONSGML kigkonsult.se iCalcreator 2.30.10//
CALSCALE:GREGORIAN
METHOD:PUBLISH
UID:31d6a4c0-fea5-4886-a47d-76e7238f98d5
X-WR-CALNAME:iCagenda
X-WR-CALDESC:Event Management Extension for Joomla!
X-WR-RELCALID:3E26604A-50F4-4449-8B3E-E4F4932D05B5
X-WR-TIMEZONE:America/Costa_Rica
BEGIN:VTIMEZONE
TZID:America/Costa_Rica
BEGIN:STANDARD
TZNAME:CST
DTSTART:20220131T060000
TZOFFSETFROM:+0000
TZOFFSETTO:-0600
END:STANDARD
END:VTIMEZONE
BEGIN:VEVENT
UID:f0a2b9c7-588e-4892-b5f9-916f2efa097f
DTSTAMP:20260419T142308Z
CATEGORIES:Mejores Prácticas Organizacionales
CLASS:PUBLIC
DESCRIPTION;ALTREP="CID:<FFFF__=0ABBE548DFE235B58f9e8a93d@coffeebean.com>":
 Taller:\n¡Accountability!\nPluses: Entre los asistentes de sorteará una co
 pia del libro de management \n“Actuar para pensar” y una copia del libro “
 Herramientas de Coaching” del instructor.\nFecha: 2 de noviembre del 2023.
 Horario: 8:30 a.m. a 12:30 m.d.Duración: 4 horas.Plataforma: Zoom.Inversió
 n: ¢65.000 + 2% de IVA por participante.Incluye: Material didáctico y cert
 ificado de participación en versión digital.\nMotivación al taller: en un 
 mundo de colaboración y equipos ágiles\, cada quien debe asumir sus respon
 sabilidades y pasar del discurso a la acción.\nObjetivos: explicar\, aplic
 ar y apreciar los comportamientos asociados con el manejo de compromisos y
  la rendición de cuentas.\nContenidos:• Accountability: comportamientos de
  alto y bajo desempeño de la competencia y escape del 'ciclo de la victimi
 zación'.• ¿Somos internalizadores o externalizadores? Aplicación de prueba
  de autoevaluación y trabajo con modelo de U-invertida del Open.• Combatie
 ndo la baja asertividad y los obstáculos al desempeño. Cinco herramientas 
 para fortalecer la internalidad y la accountability.• Ciencia de la Ejecuc
 ión: tres reglas para liderar la ejecución.• Seteo de expectativas para de
 sarrollar la accountability.• Aprender la accountability: trabajo con Tabl
 a3® (ejercicios de aprendizaje intencionado\, auto coaching y guías para l
 a acción).\nFacilitador: Dr. Enrique Margery- Doctor en Educación y TEDx s
 peaker.- Profesor invitado de la Universidad de Querétaro (UAQ\, México) y
  la Universidad UAGM (Puerto Rico).- Diseña capacitación para desarrollo d
 e soft skills basado en aprendizaje por la experiencia\, GBL y “reto-apren
 dizaje”.- Coach especialista en ciencia de la colaboración y manejo de top
  performers.- Diseña herramientas para medir el Sentido de Urgencia\, el “
 termómetro de la colaboración” y la rentabilidad de la capacitación\, entr
 e otros.- Autor de los libros “Complejidad y Competencias”\, “Herramientas
  de Coaching”\, “El Viaje” (Editorial Norma\; uno de los primeros libros d
 e psicología positiva publicados) y 'Bájate de la escalera'.\nTodas nuestr
 as capacitaciones pueden ser impartidas en su organización\nInscripciones 
 a: info@cedeso.co.crTel: +506 2225-1007 Whatsapp: +506 6063-9111Visite nue
 stra página www.cedeso.co.crfacebook.com/cedesocostarica
DTSTART:20231102T143000Z
DTEND:20231102T183000Z
GEO:00;0
LOCATION:Virtual por Zoom
ORGANIZER;CN=:info@cedeso.co.cr
SEQUENCE:1
SUMMARY:¡Accountability!
TRANSP:OPAQUE
URL:https://cedeso.co.cr/eventos-anteriores/760-%C2%A1accountability
END:VEVENT
END:VCALENDAR
