BEGIN:VCALENDAR
VERSION:2.0
PRODID:-//Cedeso//NONSGML kigkonsult.se iCalcreator 2.30.10//
CALSCALE:GREGORIAN
METHOD:PUBLISH
UID:4b0b57b2-2f5e-43a7-bd10-f4969bc8e816
X-WR-CALNAME:iCagenda
X-WR-CALDESC:Event Management Extension for Joomla!
X-WR-RELCALID:3E26604A-50F4-4449-8B3E-E4F4932D05B5
X-WR-TIMEZONE:America/Costa_Rica
BEGIN:VTIMEZONE
TZID:America/Costa_Rica
BEGIN:STANDARD
TZNAME:CST
DTSTART:20220417T060000
TZOFFSETFROM:+0000
TZOFFSETTO:-0600
END:STANDARD
END:VTIMEZONE
BEGIN:VEVENT
UID:d64b5920-3494-472e-b3c7-4b74e2e5050d
DTSTAMP:20260419T125552Z
CATEGORIES:Mejores Prácticas Organizacionales
CLASS:PUBLIC
DESCRIPTION;ALTREP="CID:<FFFF__=0ABBE548DFE235B58f9e8a93d@coffeebean.com>":
 Taller:\n¡Herramientas para facilitar!\nPluses\; Entre los asistentes de s
 orteará una copia del libro de management “Actuar para pensar” y una copia
  del libro “Herramientas de Coaching” del instructor.\nAdemás\, en su vers
 ión presencial inhouse\, se tiene los siguientes pluses:• La Manta: un eje
 rcicio sociodramático para sistematizar los aprendizajes.• Cada participan
 te se lleva un semáforo metacognitivo® para desarrollo de la competencia '
 Aprendizaje activo' y una ayuda memoria con 9 estrategias de mentalidad de
  crecimiento.\nFecha: 17 de enero del 2024.Horario: 8:30 a.m. a 12:30 m.d.
 Duración: 4 horas.Plataforma: Zoom.Inversión: ¢65.000 + 2% de IVA por part
 icipante.Incluye: Material didáctico y certificado de participación en ver
 sión digital.Facilitador: Dr. Enrique Margery\nMotivación al taller: este 
 es un taller de alto impacto para facilitadores internos y equipos de onbo
 arding.\nObjetivos: explicar\, aplicar y apreciar herramientas de última g
 eneración en procesos de aprendizaje activo y onboarding.\nContenidos:• “N
 ada es más práctico que una buena teoría” (K. Lewin). La Neurociencia de l
 a animación andragógica en empresa.• Pensamiento visual y “graphic recordi
 ng”: aplicando el “sketchnoting” para mapear aprendizaje experiencial\, es
 cape rooms y siete procesos de gamificación del aprendizaje.• Matriz de di
 seño para facilitadores (“Ejercicio 3x3”) de encuadres (objetivo a lograr\
 , contexto de desempeño y grupo meta) y dinámicas (rompehielos\, “Brainwal
 king” y juego de roles).• Ideas generadoras en ABPx\, Aula invertida\, Apr
 endizaje colaborativo y Storytelling.• Estructuras liberadoras.\nFacilitad
 or: Dr. Enrique Margery- Doctor en Educación y TEDx speaker.- Profesor inv
 itado de la Universidad de Querétaro (UAQ\, México) y la Universidad UAGM 
 (Puerto Rico).- Diseña capacitación para desarrollo de soft skills basado 
 en aprendizaje por la experiencia\, GBL y “reto-aprendizaje”.- Coach espec
 ialista en ciencia de la colaboración y manejo de top performers.- Diseña 
 herramientas para medir el Sentido de Urgencia\, el “termómetro de la cola
 boración” y la rentabilidad de la capacitación\, entre otros.- Autor de lo
 s libros “Complejidad y Competencias”\, “Herramientas de Coaching”\, “El V
 iaje” (Editorial Norma\; uno de los primeros libros de psicología positiva
  publicados) y 'Bájate de la escalera'.\nTodas nuestras capacitaciones pue
 den ser impartidas en su organización\nInscripciones a info@cedeso.co.crTe
 l: +506 2225-1007 Whatsapp: +506 6063-9111Visite nuestra página www.cedeso
 .co.crfacebook.com/cedesocostarica
DTSTART:20240117T143000Z
DTEND:20240117T183000Z
GEO:00;0
LOCATION:Virtual por Zoom
ORGANIZER;CN=:info@cedeso.co.cr
SEQUENCE:1
SUMMARY:¡Herramientas para facilitar!
TRANSP:OPAQUE
URL:https://cedeso.co.cr/eventos-anteriores/761-%C2%A1herramientas-para-fac
 ilitar
END:VEVENT
END:VCALENDAR
