BEGIN:VCALENDAR
VERSION:2.0
PRODID:-//Cedeso//NONSGML kigkonsult.se iCalcreator 2.30.10//
CALSCALE:GREGORIAN
METHOD:PUBLISH
UID:ac8f710a-5589-4791-becf-09b597eafc8f
X-WR-CALNAME:iCagenda
X-WR-CALDESC:Event Management Extension for Joomla!
X-WR-RELCALID:3E26604A-50F4-4449-8B3E-E4F4932D05B5
X-WR-TIMEZONE:America/Costa_Rica
BEGIN:VTIMEZONE
TZID:America/Costa_Rica
BEGIN:STANDARD
TZNAME:CST
DTSTART:20220206T060000
TZOFFSETFROM:+0000
TZOFFSETTO:-0600
END:STANDARD
END:VTIMEZONE
BEGIN:VEVENT
UID:2a4ab77b-a3f6-402b-865b-198ab3def445
DTSTAMP:20260419T142655Z
CATEGORIES:Mejores Prácticas Organizacionales
CLASS:PUBLIC
DESCRIPTION;ALTREP="CID:<FFFF__=0ABBE548DFE235B58f9e8a93d@coffeebean.com>":
 Taller:\nCálculo de cargas de trabajo\nPluses:Entre los asistentes se sort
 eará una copia del libro de management “Actuar para pensar” y una copia de
 l libro “Herramientas de Coaching” del instructor.Agendaremos sesiones par
 a llevar las cargas de trabajo modernas a las empresas de las y los partic
 ipantes.\nFecha: 8 de noviembre del 2023.Horario: 8:30 a.m. a 12:30 m.d.Du
 ración: 4 horas.Plataforma: Zoom.Inversión: ¢65.000 + 2% de IVA por partic
 ipante.Incluye: Material didáctico y certificado de participación en PDF.F
 acilitador: Dr. Enrique Margery\nMotivación al taller: los estudios de car
 gas de trabajo nacieron en un mundo completamente diferente al actual ¿Cóm
 o se calculan las cargas hoy?\nObjetivos: explicar\, aplicar y apreciar la
 s herramientas para el cálculo de cargas de trabajo en la organización mod
 erna.\nContenidos:• De los therbligs de 1911 a los equipos ágiles del 2023
 : de los estudios de cargas en la cadena de montaje a la organización mode
 rna.• Combatiendo “áreas grises”: cargas de trabajo en procesos optimizado
 s.• Trabajo mental\, procesos en interacción y trabajo cooperativo y colab
 orativo.• Procesos\, actividades y mapeo de individuos y equipos (tablas d
 e asignación).• Cálculo del tiempo tipo y trabajo con suplementos para com
 plejidad\, interacción entre procesos y multitasking. Modelo estadístico y
  modelo de estimación profesional fraccionada (EPF).• Cálculo de capacidad
  equivalente y sobrecarga o infracarga de personal en los procesos y estra
 tegias de balanceo de cargas en procesos complejos.\nFacilitador: Dr. Enri
 que Margery- Doctor en Educación y TEDx speaker.- Profesor invitado de la 
 Universidad de Querétaro (UAQ\, México) y la Universidad UAGM (Puerto Rico
 ).- Diseña capacitación para desarrollo de soft skills basado en aprendiza
 je por la experiencia\, GBL y “reto-aprendizaje”.- Coach especialista en c
 iencia de la colaboración y manejo de top performers.- Diseña herramientas
  para medir el Sentido de Urgencia\, el “termómetro de la colaboración” y 
 la rentabilidad de la capacitación\, entre otros.- Autor de los libros “Co
 mplejidad y Competencias”\, “Herramientas de Coaching”\, “El Viaje” (Edito
 rial Norma\; uno de los primeros libros de psicología positiva publicados)
  y 'Bájate de la escalera'.\nTodas nuestras capacitaciones pueden ser impa
 rtidas en su organización\nInscripciones a info@cedeso.co.crTel: +506 2225
 -1007 Whatsapp: +506 6063-9111Visite nuestra página www.cedeso.co.crfacebo
 ok.com/cedesocostarica
DTSTART:20231108T143000Z
DTEND:20231108T183000Z
GEO:00;0
LOCATION:Virtual por Zoom
ORGANIZER;CN=:info@cedeso.co.cr
SEQUENCE:1
SUMMARY:Cálculo de cargas de trabajo
TRANSP:OPAQUE
URL:https://cedeso.co.cr/eventos-anteriores/762-c%C3%A1lculo-de-cargas-de-t
 rabajo
END:VEVENT
END:VCALENDAR
