BEGIN:VCALENDAR
VERSION:2.0
PRODID:-//Cedeso//NONSGML kigkonsult.se iCalcreator 2.30.10//
CALSCALE:GREGORIAN
METHOD:PUBLISH
UID:13ad6e71-e26b-4eeb-901c-3b119919fa9a
X-WR-CALNAME:iCagenda
X-WR-CALDESC:Event Management Extension for Joomla!
X-WR-RELCALID:3E26604A-50F4-4449-8B3E-E4F4932D05B5
X-WR-TIMEZONE:America/Costa_Rica
BEGIN:VTIMEZONE
TZID:America/Costa_Rica
BEGIN:STANDARD
TZNAME:CST
DTSTART:20220116T060000
TZOFFSETFROM:+0000
TZOFFSETTO:-0600
END:STANDARD
END:VTIMEZONE
BEGIN:VEVENT
UID:55760cef-13c1-4237-9c05-33ac48fac887
DTSTAMP:20260419T142909Z
CATEGORIES:Mejores Prácticas Organizacionales
CLASS:PUBLIC
DESCRIPTION;ALTREP="CID:<FFFF__=0ABBE548DFE235B58f9e8a93d@coffeebean.com>":
 Taller:\nDesarrollo de habilidades de supervisión\nFecha: 18 y 19 de octub
 re del 2023.Horario: 8:30 a.m. a 11:30 a.m.Duración total: 6 horas.Metodol
 ogía: Virtual. Plataforma: Zoom.Inversión: ¢75.000 + 2% de IVA por partici
 pante. Incluye: Material y certificado de participación en versión digital
 .\nDirigido a: Jefes\, supervisores y todo tipo de mandos con personal a c
 argo.\nObjetivos:• Actualizar en la manera de optimizar las cuatro compete
 ncias claves de un jefe/supervisor• Reconocer mis áreas de oportunidad y c
 ómo desarrollarlas\nContenidos:1. Introducción: el nuevo mundo laboral que
  se está desarrollando\, de que maneras afecta mi trabajo.2. La competenci
 a de las competencias: cómo aprovechar la comunicación para conseguir resu
 ltados y liderazgo.3. Manejo del tiempo y la productividad: las reglas sim
 ples y poderosas para que te alcance el tiempo para todo.4. Gestión de equ
 ipos: aprenda a constituir equipos y a gestionar los conflictos.5. La gest
 ión del rendimiento: habilidades para establecer objetivos\, dar retroalim
 entación y llevar a cabo evaluaciones del desempeño efectivas.6. Ética y c
 umplimiento legal: manejo de una disciplina efectiva y tomar acciones conf
 orme a la legislación laboral.\nFacilitador: Lic. Carlos Solera Umaña Lice
 nciado en administración de negocios\, certificado en Compensación y Benef
 icios y en Competencias\, amplia experiencia en Compensación y Beneficios.
  Técnico en seguros. Más de 30 años de experiencia en todos los subproceso
 s de Gestión de RRHH. Amplia experiencia en organizaciones de manufactura\
 , servicios\, cooperativas y ONG’s. Actual fundador y director de CEDESO.S
 .A.\nTodas nuestras capacitaciones pueden ser impartidas en su organizació
 n\nInscripciones a: info@cedeso.co.crTel: +506 2225-1007Whatsapp: +506 606
 3-9111Visite nuestra página www.cedeso.co.crfacebook.com/cedesocostarica
DTSTART:20231018T143000Z
DTEND:20231019T173000Z
GEO:00;0
LOCATION:Virtual por Zoom
ORGANIZER;CN=:info@cedeso.co.cr
SEQUENCE:1
SUMMARY:Desarrollo de habilidades de supervisión
TRANSP:OPAQUE
URL:https://cedeso.co.cr/eventos-anteriores/763-desarrollo-de-habilidades-d
 e-supervisi%C3%B3n
END:VEVENT
END:VCALENDAR
